BEGIN:VCALENDAR
VERSION:2.0
PRODID:-//Heritage Humane - ECPv6.15.13//NONSGML v1.0//EN
CALSCALE:GREGORIAN
METHOD:PUBLISH
X-ORIGINAL-URL:https://heritagehumane.org
X-WR-CALDESC:Events for Heritage Humane
REFRESH-INTERVAL;VALUE=DURATION:PT1H
X-Robots-Tag:noindex
X-PUBLISHED-TTL:PT1H
BEGIN:VTIMEZONE
TZID:America/New_York
BEGIN:DAYLIGHT
TZOFFSETFROM:-0500
TZOFFSETTO:-0400
TZNAME:EDT
DTSTART:20170312T070000
END:DAYLIGHT
BEGIN:STANDARD
TZOFFSETFROM:-0400
TZOFFSETTO:-0500
TZNAME:EST
DTSTART:20171105T060000
END:STANDARD
BEGIN:DAYLIGHT
TZOFFSETFROM:-0500
TZOFFSETTO:-0400
TZNAME:EDT
DTSTART:20180311T070000
END:DAYLIGHT
BEGIN:STANDARD
TZOFFSETFROM:-0400
TZOFFSETTO:-0500
TZNAME:EST
DTSTART:20181104T060000
END:STANDARD
BEGIN:DAYLIGHT
TZOFFSETFROM:-0500
TZOFFSETTO:-0400
TZNAME:EDT
DTSTART:20190310T070000
END:DAYLIGHT
BEGIN:STANDARD
TZOFFSETFROM:-0400
TZOFFSETTO:-0500
TZNAME:EST
DTSTART:20191103T060000
END:STANDARD
END:VTIMEZONE
BEGIN:VEVENT
DTSTART;TZID=America/New_York:20180929T110000
DTEND;TZID=America/New_York:20180929T130000
DTSTAMP:20260423T045742
CREATED:20180926T204551Z
LAST-MODIFIED:20180926T204614Z
UID:7573-1538218800-1538226000@heritagehumane.org
SUMMARY:ACE Hardware Charity Event
DESCRIPTION:All month long Penninsula ACE Hardware has been offering the option for customers to round up their totals to benefit the homeless pets at Heritage Humane Society. On Saturday\, Sept. 26 our adoption team will have dogs available to visit with out front! \nA HUGE thank you to Penninsula Ace Hardware for making this event possible.
URL:https://heritagehumane.org/event/ace-hardware-charity-event/
LOCATION:Penninsula Ace Hardware\, 1230 Richmond Rd\, Williamsburg\, 23185\, United States
CATEGORIES:Adoption
END:VEVENT
END:VCALENDAR