BEGIN:VCALENDAR
VERSION:2.0
PRODID:-//Heritage Humane - ECPv6.15.13//NONSGML v1.0//EN
CALSCALE:GREGORIAN
METHOD:PUBLISH
X-WR-CALNAME:Heritage Humane
X-ORIGINAL-URL:https://heritagehumane.org
X-WR-CALDESC:Events for Heritage Humane
REFRESH-INTERVAL;VALUE=DURATION:PT1H
X-Robots-Tag:noindex
X-PUBLISHED-TTL:PT1H
BEGIN:VTIMEZONE
TZID:America/New_York
BEGIN:DAYLIGHT
TZOFFSETFROM:-0500
TZOFFSETTO:-0400
TZNAME:EDT
DTSTART:20170312T070000
END:DAYLIGHT
BEGIN:STANDARD
TZOFFSETFROM:-0400
TZOFFSETTO:-0500
TZNAME:EST
DTSTART:20171105T060000
END:STANDARD
BEGIN:DAYLIGHT
TZOFFSETFROM:-0500
TZOFFSETTO:-0400
TZNAME:EDT
DTSTART:20180311T070000
END:DAYLIGHT
BEGIN:STANDARD
TZOFFSETFROM:-0400
TZOFFSETTO:-0500
TZNAME:EST
DTSTART:20181104T060000
END:STANDARD
BEGIN:DAYLIGHT
TZOFFSETFROM:-0500
TZOFFSETTO:-0400
TZNAME:EDT
DTSTART:20190310T070000
END:DAYLIGHT
BEGIN:STANDARD
TZOFFSETFROM:-0400
TZOFFSETTO:-0500
TZNAME:EST
DTSTART:20191103T060000
END:STANDARD
END:VTIMEZONE
BEGIN:VEVENT
DTSTART;TZID=America/New_York:20181005T120000
DTEND;TZID=America/New_York:20181007T140000
DTSTAMP:20260423T033757
CREATED:20180830T190223Z
LAST-MODIFIED:20180912T183751Z
UID:7206-1538740800-1538920800@heritagehumane.org
SUMMARY:PetSmart National Adoption Weekend
DESCRIPTION:Join us to keep the adoption momentum going during PetSmart Charities National Adoption Weekend at your local PetSmart store! \nFind unconditional love and inspire others to adopt their best friend by sharing your adoption story on social media using #iadopted. \n\nOctober 5\, 2018 (12PM-2PM)\nOctober 6\, 2018 (10AM-4PM)\nOctober 7\, 2018 (12PM-2PM)\n\nPetSmart Adoption Weekend\n4900 Monticello Ave\nWilliamsburg\, VA 23188\n(757) 259-1630
URL:https://heritagehumane.org/event/petsmart-national-adoption-weekend/
LOCATION:PetSmart\, 4900 Monticello Ave\, Williamsburg\, VA\, 23188\, United States
CATEGORIES:Adoption
ORGANIZER;CN="Heritage Humane Society":MAILTO:info@heritagehumanesociety.org
END:VEVENT
END:VCALENDAR