BEGIN:VCALENDAR
VERSION:2.0
PRODID:-//Heritage Humane - ECPv6.15.13//NONSGML v1.0//EN
CALSCALE:GREGORIAN
METHOD:PUBLISH
X-ORIGINAL-URL:https://heritagehumane.org
X-WR-CALDESC:Events for Heritage Humane
REFRESH-INTERVAL;VALUE=DURATION:PT1H
X-Robots-Tag:noindex
X-PUBLISHED-TTL:PT1H
BEGIN:VTIMEZONE
TZID:America/New_York
BEGIN:DAYLIGHT
TZOFFSETFROM:-0500
TZOFFSETTO:-0400
TZNAME:EDT
DTSTART:20180311T070000
END:DAYLIGHT
BEGIN:STANDARD
TZOFFSETFROM:-0400
TZOFFSETTO:-0500
TZNAME:EST
DTSTART:20181104T060000
END:STANDARD
BEGIN:DAYLIGHT
TZOFFSETFROM:-0500
TZOFFSETTO:-0400
TZNAME:EDT
DTSTART:20190310T070000
END:DAYLIGHT
BEGIN:STANDARD
TZOFFSETFROM:-0400
TZOFFSETTO:-0500
TZNAME:EST
DTSTART:20191103T060000
END:STANDARD
BEGIN:DAYLIGHT
TZOFFSETFROM:-0500
TZOFFSETTO:-0400
TZNAME:EDT
DTSTART:20200308T070000
END:DAYLIGHT
BEGIN:STANDARD
TZOFFSETFROM:-0400
TZOFFSETTO:-0500
TZNAME:EST
DTSTART:20201101T060000
END:STANDARD
END:VTIMEZONE
BEGIN:VEVENT
DTSTART;VALUE=DATE:20190212
DTEND;VALUE=DATE:20190213
DTSTAMP:20260422T224057
CREATED:20190122T191357Z
LAST-MODIFIED:20190122T191357Z
UID:8115-1549929600-1550015999@heritagehumane.org
SUMMARY:Homeless Animals Awareness Week
DESCRIPTION:February 11 – February 17 is “Homeless Animals Awareness Week.” \nLocal animal shelters in Hampton Roads join together all week to promote adopting from shelters. Throughout the week participating shelters will be sending a variety of educational messages on their websites and social media pages. Local shelters will also be offering adoption promotions during the week. \nStayed tuned for more information!
URL:https://heritagehumane.org/event/homeless-animals-awareness-week-2/
LOCATION:Heritage Humane Society
CATEGORIES:Adoption
ORGANIZER;CN="Heritage Humane Society":MAILTO:info@heritagehumanesociety.org
END:VEVENT
BEGIN:VEVENT
DTSTART;TZID=America/New_York:20190212T090000
DTEND;TZID=America/New_York:20190212T093000
DTSTAMP:20260422T224057
CREATED:20190122T154701Z
LAST-MODIFIED:20190122T154701Z
UID:8051-1549962000-1549963800@heritagehumane.org
SUMMARY:Pause for Paws - WMBG Radio
DESCRIPTION:Please join us by listening to WMBG FM 97.7 & AM 740 from 9:15 am till 9:45 am for our Pet of the Week.
URL:https://heritagehumane.org/event/pause-for-paws-wmbg-radio-14/
LOCATION:WMBG Radio\, 1005 Richmond Rd.\, Williamsburg\, VA\, 23185\, United States
CATEGORIES:Adoption
ATTACH;FMTTYPE=image/jpeg:https://heritagehumane.org/wp-content/uploads/2018/04/Bishop-scaled.jpg
ORGANIZER;CN="Heritage Humane Society":MAILTO:info@heritagehumanesociety.org
END:VEVENT
END:VCALENDAR