BEGIN:VCALENDAR
VERSION:2.0
PRODID:-//Heritage Humane - ECPv6.15.13//NONSGML v1.0//EN
CALSCALE:GREGORIAN
METHOD:PUBLISH
X-ORIGINAL-URL:https://heritagehumane.org
X-WR-CALDESC:Events for Heritage Humane
REFRESH-INTERVAL;VALUE=DURATION:PT1H
X-Robots-Tag:noindex
X-PUBLISHED-TTL:PT1H
BEGIN:VTIMEZONE
TZID:America/New_York
BEGIN:DAYLIGHT
TZOFFSETFROM:-0500
TZOFFSETTO:-0400
TZNAME:EDT
DTSTART:20180311T070000
END:DAYLIGHT
BEGIN:STANDARD
TZOFFSETFROM:-0400
TZOFFSETTO:-0500
TZNAME:EST
DTSTART:20181104T060000
END:STANDARD
BEGIN:DAYLIGHT
TZOFFSETFROM:-0500
TZOFFSETTO:-0400
TZNAME:EDT
DTSTART:20190310T070000
END:DAYLIGHT
BEGIN:STANDARD
TZOFFSETFROM:-0400
TZOFFSETTO:-0500
TZNAME:EST
DTSTART:20191103T060000
END:STANDARD
BEGIN:DAYLIGHT
TZOFFSETFROM:-0500
TZOFFSETTO:-0400
TZNAME:EDT
DTSTART:20200308T070000
END:DAYLIGHT
BEGIN:STANDARD
TZOFFSETFROM:-0400
TZOFFSETTO:-0500
TZNAME:EST
DTSTART:20201101T060000
END:STANDARD
END:VTIMEZONE
BEGIN:VEVENT
DTSTART;TZID=America/New_York:20190223T120000
DTEND;TZID=America/New_York:20190223T160000
DTSTAMP:20260422T224057
CREATED:20190122T194126Z
LAST-MODIFIED:20190122T194126Z
UID:8134-1550923200-1550937600@heritagehumane.org
SUMMARY:PetSmart National Adoption Weekend
DESCRIPTION:Join us at PetSmart located at 4900 Monticello Ave. Williamsburg VA for the PetSmart National Adoption Weekend. Heritage Humane Society will have adoptable pets at the event at the below times. We hope to see you there! \nFriday\, February 22nd from 12 P.M. – 2 P.M. \nSaturday\, February 23rd from 12 P.M. – 4 P.M. \nSunday\, February 24th from 12 P.M. – 2 P.M.
URL:https://heritagehumane.org/event/petsmart-national-adoption-weekend-3/
LOCATION:PetSmart Williamsburg\, 4900 Monticello Ave.\, Williamsburg\, VA\, 23188\, United States
CATEGORIES:Adoption
ORGANIZER;CN="Heritage Humane Society":MAILTO:info@heritagehumanesociety.org
END:VEVENT
END:VCALENDAR