BEGIN:VCALENDAR
VERSION:2.0
PRODID:-//Heritage Humane - ECPv6.15.13//NONSGML v1.0//EN
CALSCALE:GREGORIAN
METHOD:PUBLISH
X-ORIGINAL-URL:https://heritagehumane.org
X-WR-CALDESC:Events for Heritage Humane
REFRESH-INTERVAL;VALUE=DURATION:PT1H
X-Robots-Tag:noindex
X-PUBLISHED-TTL:PT1H
BEGIN:VTIMEZONE
TZID:America/New_York
BEGIN:DAYLIGHT
TZOFFSETFROM:-0500
TZOFFSETTO:-0400
TZNAME:EDT
DTSTART:20180311T070000
END:DAYLIGHT
BEGIN:STANDARD
TZOFFSETFROM:-0400
TZOFFSETTO:-0500
TZNAME:EST
DTSTART:20181104T060000
END:STANDARD
BEGIN:DAYLIGHT
TZOFFSETFROM:-0500
TZOFFSETTO:-0400
TZNAME:EDT
DTSTART:20190310T070000
END:DAYLIGHT
BEGIN:STANDARD
TZOFFSETFROM:-0400
TZOFFSETTO:-0500
TZNAME:EST
DTSTART:20191103T060000
END:STANDARD
BEGIN:DAYLIGHT
TZOFFSETFROM:-0500
TZOFFSETTO:-0400
TZNAME:EDT
DTSTART:20200308T070000
END:DAYLIGHT
BEGIN:STANDARD
TZOFFSETFROM:-0400
TZOFFSETTO:-0500
TZNAME:EST
DTSTART:20201101T060000
END:STANDARD
END:VTIMEZONE
BEGIN:VEVENT
DTSTART;VALUE=DATE:20191109
DTEND;VALUE=DATE:20191110
DTSTAMP:20260422T112504
CREATED:20191022T150253Z
LAST-MODIFIED:20191022T150254Z
UID:10452-1573257600-1573343999@heritagehumane.org
SUMMARY:Belk Fall Charity Sale
DESCRIPTION:Belk is having their Fall Charity Sale on Saturday\, November 9th from 7 AM – CLOSE. \nVolunteers from Heritage Humane Society will be at Belk on Thursday\, October 31st and Wednesday and November 6th from 10 AM – 2 PM.  \nCome by and purchase a pre-sale coupon for the big sale! A percentage of the ticket sales will benefit the homeless pets. There will be a table set up inside the store with information about the sale and information about the shelter. There will also be an adoptable dog from the shelter there!
URL:https://heritagehumane.org/event/belk-fall-charity-sale-2/
LOCATION:Belk Williamsburg\, 4900-3 Monticello Ave.\, Williamsburg\, VA\, 23188\, United States
CATEGORIES:Charity
ORGANIZER;CN="Heritage Humane Society Auxiliary":MAILTO:auxiliary@heritagehumanesociety.org
END:VEVENT
BEGIN:VEVENT
DTSTART;TZID=America/New_York:20191109T120000
DTEND;TZID=America/New_York:20191109T140000
DTSTAMP:20260422T112504
CREATED:20190729T163120Z
LAST-MODIFIED:20190729T163120Z
UID:9267-1573300800-1573308000@heritagehumane.org
SUMMARY:Tervis Pups and Cups Event
DESCRIPTION:Join us on Saturday\, November 9th at the TERVIS store from 12 PM – 2 PM \nThere will be information about Heritage Humane Society\, an adoptable dog\, and the Heritage Humane Society TERVIS cups for purchase at the event. \nClick HERE to learn more about our Heritage Humane Society TERVIS cups!
URL:https://heritagehumane.org/event/tervis-pups-and-cups-event-7/
LOCATION:Tervis store\, 447 Prince George St\, Williamsburg\, VA 23185\, 447 Prince George St\, Williamsburg\, VA\, 23188\, United States
CATEGORIES:Adoption,Charity
ORGANIZER;CN="Heritage Humane Society":MAILTO:info@heritagehumanesociety.org
END:VEVENT
BEGIN:VEVENT
DTSTART;TZID=America/New_York:20191109T120000
DTEND;TZID=America/New_York:20191109T160000
DTSTAMP:20260422T112504
CREATED:20191022T151945Z
LAST-MODIFIED:20191022T151946Z
UID:10459-1573300800-1573315200@heritagehumane.org
SUMMARY:National PetSmart Adoption Weekend
DESCRIPTION:
URL:https://heritagehumane.org/event/national-petsmart-adoption-weekend-2/
LOCATION:PetSmart Williamsburg\, 4900 Monticello Ave.\, Williamsburg\, VA\, 23188\, United States
CATEGORIES:Adoption,Event
ORGANIZER;CN="Heritage Humane Society":MAILTO:info@heritagehumanesociety.org
END:VEVENT
END:VCALENDAR