BEGIN:VCALENDAR
VERSION:2.0
PRODID:-//Heritage Humane - ECPv6.15.13//NONSGML v1.0//EN
CALSCALE:GREGORIAN
METHOD:PUBLISH
X-WR-CALNAME:Heritage Humane
X-ORIGINAL-URL:https://heritagehumane.org
X-WR-CALDESC:Events for Heritage Humane
REFRESH-INTERVAL;VALUE=DURATION:PT1H
X-Robots-Tag:noindex
X-PUBLISHED-TTL:PT1H
BEGIN:VTIMEZONE
TZID:America/New_York
BEGIN:DAYLIGHT
TZOFFSETFROM:-0500
TZOFFSETTO:-0400
TZNAME:EDT
DTSTART:20230312T070000
END:DAYLIGHT
BEGIN:STANDARD
TZOFFSETFROM:-0400
TZOFFSETTO:-0500
TZNAME:EST
DTSTART:20231105T060000
END:STANDARD
BEGIN:DAYLIGHT
TZOFFSETFROM:-0500
TZOFFSETTO:-0400
TZNAME:EDT
DTSTART:20240310T070000
END:DAYLIGHT
BEGIN:STANDARD
TZOFFSETFROM:-0400
TZOFFSETTO:-0500
TZNAME:EST
DTSTART:20241103T060000
END:STANDARD
BEGIN:DAYLIGHT
TZOFFSETFROM:-0500
TZOFFSETTO:-0400
TZNAME:EDT
DTSTART:20250309T070000
END:DAYLIGHT
BEGIN:STANDARD
TZOFFSETFROM:-0400
TZOFFSETTO:-0500
TZNAME:EST
DTSTART:20251102T060000
END:STANDARD
END:VTIMEZONE
BEGIN:VEVENT
DTSTART;TZID=America/New_York:20240429T120000
DTEND;TZID=America/New_York:20240508T120000
DTSTAMP:20260420T183129
CREATED:20231218T195339Z
LAST-MODIFIED:20231218T195339Z
UID:52549-1714392000-1715169600@heritagehumane.org
SUMMARY:Spring in Bloom Online Auction
DESCRIPTION:Spring is coming up\, and we have an extravaganza of things to celebrate\, including our expanded Spring in Bloom Online Auction.\nThe Heritage Humane Society Auxiliary has an online spring auction featuring wine\, vintage items\, home décor\, art\, gift cards\, experiences\, pet items\, and hand-crafted gift baskets blooming with unique gifts for everyone. Don’t miss your chance to win! All proceeds benefit the homeless pets at Heritage Humane Society.\nOnline bidding opens at noon on Monday\, April 29\, and closes at noon on Wednesday\, May 8.\nVisit heritagehumane.org/spring-auction to learn more.
URL:https://heritagehumane.org/event/spring-in-bloom-online-auction-3/
LOCATION:Heritage Humane Society
CATEGORIES:Auxiliary,Charity,Virtual Event
ATTACH;FMTTYPE=image/png:https://heritagehumane.org/wp-content/uploads/2021/03/kitten-with-flower.png
ORGANIZER;CN="Heritage Humane Society Auxiliary":MAILTO:auxiliary@heritagehumanesociety.org
END:VEVENT
BEGIN:VEVENT
DTSTART;TZID=America/New_York:20240528T100000
DTEND;TZID=America/New_York:20240528T120000
DTSTAMP:20260420T183129
CREATED:20240516T162324Z
LAST-MODIFIED:20240516T162324Z
UID:56006-1716890400-1716897600@heritagehumane.org
SUMMARY:Spring Belk Charity Sale
DESCRIPTION:Belk is having their Spring Belk Charity Sale from June 7 – 9.\nVolunteers from the Heritage Humane Society Auxiliary will be at Belk on Tuesday\, May 28 from 10 a.m. – 12 p.m. with pre-sale coupons.\nCome by and purchase a pre-sale coupon for the big sale! A percentage of the ticket sales will benefit the homeless pets. There will be a table set up inside the store with information about the sale and information about the shelter.\nThere will also be an adoptable dog from the shelter there!
URL:https://heritagehumane.org/event/spring-belk-charity-sale-8/
LOCATION:Belk Williamsburg\, 4900-3 Monticello Ave.\, Williamsburg\, VA\, 23188\, United States
CATEGORIES:Auxiliary,Charity,Event
ORGANIZER;CN="Heritage Humane Society Auxiliary":MAILTO:auxiliary@heritagehumanesociety.org
END:VEVENT
BEGIN:VEVENT
DTSTART;TZID=America/New_York:20240531T120000
DTEND;TZID=America/New_York:20240531T140000
DTSTAMP:20260420T183129
CREATED:20240516T162439Z
LAST-MODIFIED:20240516T162439Z
UID:56009-1717156800-1717164000@heritagehumane.org
SUMMARY:Spring Belk Charity Sale
DESCRIPTION:Belk is having their Spring Belk Charity Sale from June 7 – 9.\nVolunteers from the Heritage Humane Society Auxiliary will be at Belk on Friday\, May 31 from 12 p.m. – 2 p.m. with pre-sale coupons.\nCome by and purchase a pre-sale coupon for the big sale! A percentage of the ticket sales will benefit the homeless pets. There will be a table set up inside the store with information about the sale and information about the shelter.\nThere will also be an adoptable dog from the shelter there!
URL:https://heritagehumane.org/event/spring-belk-charity-sale-9/
LOCATION:Belk Williamsburg\, 4900-3 Monticello Ave.\, Williamsburg\, VA\, 23188\, United States
CATEGORIES:Auxiliary,Charity,Event
ORGANIZER;CN="Heritage Humane Society Auxiliary":MAILTO:auxiliary@heritagehumanesociety.org
END:VEVENT
END:VCALENDAR