BEGIN:VCALENDAR
VERSION:2.0
PRODID:-//Heritage Humane - ECPv6.15.13//NONSGML v1.0//EN
CALSCALE:GREGORIAN
METHOD:PUBLISH
X-ORIGINAL-URL:https://heritagehumane.org
X-WR-CALDESC:Events for Heritage Humane
REFRESH-INTERVAL;VALUE=DURATION:PT1H
X-Robots-Tag:noindex
X-PUBLISHED-TTL:PT1H
BEGIN:VTIMEZONE
TZID:America/New_York
BEGIN:DAYLIGHT
TZOFFSETFROM:-0500
TZOFFSETTO:-0400
TZNAME:EDT
DTSTART:20180311T070000
END:DAYLIGHT
BEGIN:STANDARD
TZOFFSETFROM:-0400
TZOFFSETTO:-0500
TZNAME:EST
DTSTART:20181104T060000
END:STANDARD
BEGIN:DAYLIGHT
TZOFFSETFROM:-0500
TZOFFSETTO:-0400
TZNAME:EDT
DTSTART:20190310T070000
END:DAYLIGHT
BEGIN:STANDARD
TZOFFSETFROM:-0400
TZOFFSETTO:-0500
TZNAME:EST
DTSTART:20191103T060000
END:STANDARD
BEGIN:DAYLIGHT
TZOFFSETFROM:-0500
TZOFFSETTO:-0400
TZNAME:EDT
DTSTART:20200308T070000
END:DAYLIGHT
BEGIN:STANDARD
TZOFFSETFROM:-0400
TZOFFSETTO:-0500
TZNAME:EST
DTSTART:20201101T060000
END:STANDARD
END:VTIMEZONE
BEGIN:VEVENT
DTSTART;TZID=America/New_York:20190722T090000
DTEND;TZID=America/New_York:20190722T160000
DTSTAMP:20260419T223922
CREATED:20190729T161437Z
LAST-MODIFIED:20190729T161437Z
UID:9239-1563786000-1563811200@heritagehumane.org
SUMMARY:Animal Camp - Rising 4th - 6th graders
DESCRIPTION:Ages: Rising 4th graders – Rising 6th graders \n9 a.m. – 4 p.m. Monday – Thursday  \nDates Offered:  \n\nMonday\, July 22 – Thursday\, July 25\, 2019\nMonday\, August 19 – Thursday\, August 22\, 2019\n\nSpace is limited so register early. \nAnimal Camp at Heritage Humane Society is an engaging up-close animal experience designed to inspire and educate animal lovers. For our older campers\, each camper will learn first-hand from professionals in the animal welfare field through a variety of special guest presentations. In addition\, each camper will be able to interact with a variety of pets at Heritage Humane Society\, learn from the medical team about the process each animal goes through when it enters Heritage Humane Society\, assist with creating a bio for a pet that they select\, learn about the adoption process\, and so much more. Campers will learn what is involved in getting the doors open each morning for the public to visit. \nWe are also excited to include a new part of the older camper’s week. They will be taking a day-long field trip on the Wednesday of each camp week to Foxwire Farms in Toano\, VA. While at Foxwire Farms the campers will have a fun and interactive tour that will introduce them to the full array of animals at the farm. They will get a chance to interact and learn about the farm animals there that include: ducks\, chickens\, donkeys\, horses\, goats\, pigs\, llamas\, and alpacas. \nTuition of $325 per camper includes: \n\nExclusive Animal Camp t-shirt\nMorning and afternoon snacks daily\nGames and enrichment materials\nField trip on Wednesday to Foxwire Farms\nBus service to transport campers to/from Foxwire Farms\nThursday pizza party
URL:https://heritagehumane.org/event/animal-camp-rising-4th-6th-graders/
LOCATION:Heritage Humane Society
CATEGORIES:Camp
ORGANIZER;CN="Heritage Humane Society":MAILTO:info@heritagehumanesociety.org
END:VEVENT
END:VCALENDAR