BEGIN:VCALENDAR
VERSION:2.0
PRODID:-//Heritage Humane - ECPv6.15.13//NONSGML v1.0//EN
CALSCALE:GREGORIAN
METHOD:PUBLISH
X-WR-CALNAME:Heritage Humane
X-ORIGINAL-URL:https://heritagehumane.org
X-WR-CALDESC:Events for Heritage Humane
REFRESH-INTERVAL;VALUE=DURATION:PT1H
X-Robots-Tag:noindex
X-PUBLISHED-TTL:PT1H
BEGIN:VTIMEZONE
TZID:America/New_York
BEGIN:DAYLIGHT
TZOFFSETFROM:-0500
TZOFFSETTO:-0400
TZNAME:EDT
DTSTART:20180311T070000
END:DAYLIGHT
BEGIN:STANDARD
TZOFFSETFROM:-0400
TZOFFSETTO:-0500
TZNAME:EST
DTSTART:20181104T060000
END:STANDARD
BEGIN:DAYLIGHT
TZOFFSETFROM:-0500
TZOFFSETTO:-0400
TZNAME:EDT
DTSTART:20190310T070000
END:DAYLIGHT
BEGIN:STANDARD
TZOFFSETFROM:-0400
TZOFFSETTO:-0500
TZNAME:EST
DTSTART:20191103T060000
END:STANDARD
BEGIN:DAYLIGHT
TZOFFSETFROM:-0500
TZOFFSETTO:-0400
TZNAME:EDT
DTSTART:20200308T070000
END:DAYLIGHT
BEGIN:STANDARD
TZOFFSETFROM:-0400
TZOFFSETTO:-0500
TZNAME:EST
DTSTART:20201101T060000
END:STANDARD
END:VTIMEZONE
BEGIN:VEVENT
DTSTART;TZID=America/New_York:20190809T090000
DTEND;TZID=America/New_York:20190809T130000
DTSTAMP:20260419T182610
CREATED:20190729T161343Z
LAST-MODIFIED:20190729T161343Z
UID:9237-1565341200-1565355600@heritagehumane.org
SUMMARY:Animal Camp - rising 1st - 3rd graders
DESCRIPTION:Ages : Rising 1st – Rising 3rd graders \n9 a.m. – 1 p.m. Monday – Friday  \nDates Offered:  \n\nMonday\, July 8 – Friday\, July 12\, 2019\nMonday\, August 5 – Friday\, August 9\, 2019\n\nSpace is limited so register early.  \nAnimal Camp at Heritage Humane Society is an enriching animal experience designed to inspire young animal lovers. For our younger kid’s camp\, they will learn first-hand about the pets in our animal shelter during this 5 day-long Animal Camp. Throughout the week guest speakers from the animal welfare field will be doing interactive presentations for the campers. In addition\, each camper will get a chance to interact with a variety of pets at Heritage Humane Society. They will learn from our staff and volunteers what is involved in caring for the pets at our shelter. There will also be a variety of fun crafts and games throughout the week focused on animal welfare\, biology\, and conservation. The dedicated staff and volunteers will cultivate responsibility\, compassion\, and awareness in each camper that will be delivered over the course of a fun-filled week. . \nTuition of $225 per camper includes: \n\nExclusive Animal Camp t-shirt\nDaily snacks\nCrafts\nGames\nFriday pizza party\n\nClick HERE to learn more!
URL:https://heritagehumane.org/event/animal-camp-rising-1st-3rd-graders-10/
LOCATION:Heritage Humane Society
CATEGORIES:Camp
ORGANIZER;CN="Heritage Humane Society":MAILTO:info@heritagehumanesociety.org
END:VEVENT
END:VCALENDAR