BEGIN:VCALENDAR
VERSION:2.0
PRODID:-//Heritage Humane - ECPv6.15.13//NONSGML v1.0//EN
CALSCALE:GREGORIAN
METHOD:PUBLISH
X-ORIGINAL-URL:https://heritagehumane.org
X-WR-CALDESC:Events for Heritage Humane
REFRESH-INTERVAL;VALUE=DURATION:PT1H
X-Robots-Tag:noindex
X-PUBLISHED-TTL:PT1H
BEGIN:VTIMEZONE
TZID:America/New_York
BEGIN:DAYLIGHT
TZOFFSETFROM:-0500
TZOFFSETTO:-0400
TZNAME:EDT
DTSTART:20230312T070000
END:DAYLIGHT
BEGIN:STANDARD
TZOFFSETFROM:-0400
TZOFFSETTO:-0500
TZNAME:EST
DTSTART:20231105T060000
END:STANDARD
BEGIN:DAYLIGHT
TZOFFSETFROM:-0500
TZOFFSETTO:-0400
TZNAME:EDT
DTSTART:20240310T070000
END:DAYLIGHT
BEGIN:STANDARD
TZOFFSETFROM:-0400
TZOFFSETTO:-0500
TZNAME:EST
DTSTART:20241103T060000
END:STANDARD
BEGIN:DAYLIGHT
TZOFFSETFROM:-0500
TZOFFSETTO:-0400
TZNAME:EDT
DTSTART:20250309T070000
END:DAYLIGHT
BEGIN:STANDARD
TZOFFSETFROM:-0400
TZOFFSETTO:-0500
TZNAME:EST
DTSTART:20251102T060000
END:STANDARD
END:VTIMEZONE
BEGIN:VEVENT
DTSTART;TZID=America/New_York:20241001T140000
DTEND;TZID=America/New_York:20241001T160000
DTSTAMP:20260419T112850
CREATED:20240917T180624Z
LAST-MODIFIED:20240917T180624Z
UID:60283-1727791200-1727798400@heritagehumane.org
SUMMARY:Colonial Heritage Dog Swim Day
DESCRIPTION:Join us at Colonial Heritage on Tuesday\, October 1\, 2024\, for their annual “Doggie Swim Day.”\nDogs are welcome to enjoy the Colonial Heritage Pool from 2 p.m. – 4 p.m.\nWe hope to see you there!
URL:https://heritagehumane.org/event/colonial-heritage-dog-swim-2024/
LOCATION:Colonial Heritage\, 6500 Arthur Hills Dr.\, Williamsburg\, VA\, 23188\, United States
CATEGORIES:Event
ATTACH;FMTTYPE=image/jpeg:https://heritagehumane.org/wp-content/uploads/2022/08/Colonial-Heritage-swimming-pool.jpg
ORGANIZER;CN="Heritage Humane Society":MAILTO:info@heritagehumanesociety.org
END:VEVENT
BEGIN:VEVENT
DTSTART;TZID=America/New_York:20241005T090000
DTEND;TZID=America/New_York:20241005T140000
DTSTAMP:20260419T112850
CREATED:20240925T190444Z
LAST-MODIFIED:20240925T190445Z
UID:60774-1728118800-1728136800@heritagehumane.org
SUMMARY:Pack the Pallet
DESCRIPTION:
URL:https://heritagehumane.org/event/pack-the-pallet/
LOCATION:Walmart Neighborhood Market\, 4670 Casey Blvd.\, Williamsburg\, VA\, 23188\, United States
CATEGORIES:Charity,Event,Supply Drive
END:VEVENT
BEGIN:VEVENT
DTSTART;TZID=America/New_York:20241005T100000
DTEND;TZID=America/New_York:20241005T140000
DTSTAMP:20260419T112850
CREATED:20240920T155803Z
LAST-MODIFIED:20240920T155806Z
UID:60685-1728122400-1728136800@heritagehumane.org
SUMMARY:Williamsburg Fire Department Open House
DESCRIPTION:Heritage Humane Society will have an information table at the Williamsburg Fire Department Open House on Saturday\, October 5 from 10 am – 2 pm. We hope to see you there!
URL:https://heritagehumane.org/event/williamsburg-fire-department-open-house/
LOCATION:Williamsburg Fire Department\, 440 N Boundary St.\, Williamsburg\, VA\, 23185\, United States
CATEGORIES:Event
END:VEVENT
BEGIN:VEVENT
DTSTART;TZID=America/New_York:20241005T150000
DTEND;TZID=America/New_York:20241005T190000
DTSTAMP:20260419T112850
CREATED:20240506T175556Z
LAST-MODIFIED:20240819T153540Z
UID:55752-1728140400-1728154800@heritagehumane.org
SUMMARY:Paws for Applause
DESCRIPTION:When:\nSaturday\, October 5  |  3 – 7 PM\n\nAbout the Event:\nGet ready for a GOOD TIME! Join us for a charity concert at Alewerks on Saturday\, October 5. Three local bands will be performing live – Rent Party\, Audio Portrait\, and Marsh Hawk. The concert is to benefit The Heritage Humane Society. The event will feature raffles and adoptable dogs. Alwerks is kindly donated 10% of the sales during the concert to The Heritage Humane Society.\n\nThe Lineup:\nThank you to the amazing artists who are performing live at the concert on behalf of the animals.\n\n\nRent Party\n\n\nAudio Portrait\n\n\nMarsh Hawk
URL:https://heritagehumane.org/event/paws-for-applause-2024/
LOCATION:Alewerks\, 189B Ewell Rd\, Williamsburg\, VA\, 23188\, United States
CATEGORIES:Charity,Event
END:VEVENT
BEGIN:VEVENT
DTSTART;TZID=America/New_York:20241012T110000
DTEND;TZID=America/New_York:20241012T130000
DTSTAMP:20260419T112850
CREATED:20240109T180736Z
LAST-MODIFIED:20240109T180736Z
UID:52978-1728730800-1728738000@heritagehumane.org
SUMMARY:2nd Saturdays at Nautical Dog
DESCRIPTION:Saturday\, October 12 from 11 am – 1 pm\nMeet your new best friend. Every 2nd Saturday (unless otherwise noted) meet adoptable dogs from Heritage Humane Society at Nautical Dog from 11 am – 1 pm. \n \nLocation: Nautical Dog\, 5102-B Main Street\, Williamsburg\, VA 23188\nCLICK HERE to learn more about our adoptable pets!\nCLICK HERE to see the event flyer
URL:https://heritagehumane.org/event/2nd-saturdays-at-nautical-dog-42/
LOCATION:Nautical Dog\, 5102-B Main Street\, Williamsburg\, VA\, 23188\, United States
CATEGORIES:Adoption,Event
ATTACH;FMTTYPE=image/jpeg:https://heritagehumane.org/wp-content/uploads/2021/04/2nd-Saturday-at-ND.jpg
ORGANIZER;CN="Heritage Humane Society":MAILTO:info@heritagehumanesociety.org
END:VEVENT
BEGIN:VEVENT
DTSTART;TZID=America/New_York:20241019T120000
DTEND;TZID=America/New_York:20241019T140000
DTSTAMP:20260419T112850
CREATED:20240912T132302Z
LAST-MODIFIED:20240912T132302Z
UID:60141-1729339200-1729346400@heritagehumane.org
SUMMARY:Shop & Adopt at Parker & Peony Boutique
DESCRIPTION:
URL:https://heritagehumane.org/event/shop-adopt-at-parker-peony-boutique-2/
LOCATION:Parker & Peony Boutique\, 701 Merrimac Trail C\, Williamsburg\, VA\, 23185\, United States
CATEGORIES:Adoption,Event
END:VEVENT
BEGIN:VEVENT
DTSTART;TZID=America/New_York:20241024T170000
DTEND;TZID=America/New_York:20241024T200000
DTSTAMP:20260419T112850
CREATED:20241010T160732Z
LAST-MODIFIED:20241010T160732Z
UID:61113-1729789200-1729800000@heritagehumane.org
SUMMARY:Spooky Sips
DESCRIPTION:
URL:https://heritagehumane.org/event/spooky-sips/
LOCATION:Craft 31\, 3701 Strawberry Plains Rd.\, Williamsburg\, 23188\, United States
CATEGORIES:Adoption,Event,Fundraiser
ORGANIZER;CN="Heritage Humane Society":MAILTO:info@heritagehumanesociety.org
END:VEVENT
BEGIN:VEVENT
DTSTART;TZID=America/New_York:20241025T170000
DTEND;TZID=America/New_York:20241025T190000
DTSTAMP:20260419T112850
CREATED:20241008T170440Z
LAST-MODIFIED:20241008T171707Z
UID:61073-1729875600-1729882800@heritagehumane.org
SUMMARY:YMCA Fall Festival
DESCRIPTION:
URL:https://heritagehumane.org/event/ymca-fall-festival-2024/
LOCATION:R.F. Wilkinson Family YMCA\, 301 Sentara Circle\, Williamsburg\, VA\, 23188\, United States
CATEGORIES:Event
END:VEVENT
BEGIN:VEVENT
DTSTART;TZID=America/New_York:20241026T150000
DTEND;TZID=America/New_York:20241026T170000
DTSTAMP:20260419T112850
CREATED:20240930T180531Z
LAST-MODIFIED:20240930T180533Z
UID:60859-1729954800-1729962000@heritagehumane.org
SUMMARY:Friends & Family Magic Show
DESCRIPTION:
URL:https://heritagehumane.org/event/friends-family-magic-show/
LOCATION:James City County Library\, 7700 Croaker Rd.\, Williamsburg\, VA\, 23188\, United States
CATEGORIES:Charity,Event
END:VEVENT
BEGIN:VEVENT
DTSTART;TZID=America/New_York:20241031T100000
DTEND;TZID=America/New_York:20241031T120000
DTSTAMP:20260419T112850
CREATED:20241002T210727Z
LAST-MODIFIED:20241002T210727Z
UID:60924-1730368800-1730376000@heritagehumane.org
SUMMARY:Fall Belk Charity Sale
DESCRIPTION:Belk is having their Fall Belk Charity Sale from November 8 – 10.\nVolunteers from the Heritage Humane Society Auxiliary will be at Belk on Thursday\, October 31 from 10 a.m. – 12 p.m. with sale coupons.\nCome by and purchase a pre-sale coupon for the big sale! A percentage of the ticket sales will benefit the homeless pets. There will be a table set up inside the store with information about the sale and information about the shelter.\nThere will also be an adoptable dog from the shelter there!
URL:https://heritagehumane.org/event/fall-belk-charity-sale-13/
LOCATION:Belk Williamsburg\, 4900-3 Monticello Ave.\, Williamsburg\, VA\, 23188\, United States
CATEGORIES:Auxiliary,Charity,Event
ORGANIZER;CN="Heritage Humane Society Auxiliary":MAILTO:auxiliary@heritagehumanesociety.org
END:VEVENT
END:VCALENDAR