BEGIN:VCALENDAR
VERSION:2.0
PRODID:-//Heritage Humane - ECPv6.15.13//NONSGML v1.0//EN
CALSCALE:GREGORIAN
METHOD:PUBLISH
X-ORIGINAL-URL:https://heritagehumane.org
X-WR-CALDESC:Events for Heritage Humane
REFRESH-INTERVAL;VALUE=DURATION:PT1H
X-Robots-Tag:noindex
X-PUBLISHED-TTL:PT1H
BEGIN:VTIMEZONE
TZID:America/New_York
BEGIN:DAYLIGHT
TZOFFSETFROM:-0500
TZOFFSETTO:-0400
TZNAME:EDT
DTSTART:20230312T070000
END:DAYLIGHT
BEGIN:STANDARD
TZOFFSETFROM:-0400
TZOFFSETTO:-0500
TZNAME:EST
DTSTART:20231105T060000
END:STANDARD
BEGIN:DAYLIGHT
TZOFFSETFROM:-0500
TZOFFSETTO:-0400
TZNAME:EDT
DTSTART:20240310T070000
END:DAYLIGHT
BEGIN:STANDARD
TZOFFSETFROM:-0400
TZOFFSETTO:-0500
TZNAME:EST
DTSTART:20241103T060000
END:STANDARD
BEGIN:DAYLIGHT
TZOFFSETFROM:-0500
TZOFFSETTO:-0400
TZNAME:EDT
DTSTART:20250309T070000
END:DAYLIGHT
BEGIN:STANDARD
TZOFFSETFROM:-0400
TZOFFSETTO:-0500
TZNAME:EST
DTSTART:20251102T060000
END:STANDARD
END:VTIMEZONE
BEGIN:VEVENT
DTSTART;TZID=America/New_York:20241102T110000
DTEND;TZID=America/New_York:20241102T150000
DTSTAMP:20260419T123407
CREATED:20241029T092203Z
LAST-MODIFIED:20241029T092203Z
UID:61571-1730545200-1730559600@heritagehumane.org
SUMMARY:Day of the Dog
DESCRIPTION:
URL:https://heritagehumane.org/event/day-of-the-dog/
LOCATION:Dominion Dogs\, Hot Dogs\, 701 Merrimac Trail\, Williamsburg\, VA\, 23185\, United States
CATEGORIES:Charity,Event
END:VEVENT
BEGIN:VEVENT
DTSTART;TZID=America/New_York:20241107T150000
DTEND;TZID=America/New_York:20241107T170000
DTSTAMP:20260419T123407
CREATED:20241002T210827Z
LAST-MODIFIED:20241002T210827Z
UID:60927-1730991600-1730998800@heritagehumane.org
SUMMARY:Fall Belk Charity Sale
DESCRIPTION:Belk is having their Fall Belk Charity Sale from November 8 – 10.\nVolunteers from the Heritage Humane Society Auxiliary will be at Belk on Thursday\, November 7 from 3 p.m. – 5 p.m. with sale coupons.\nCome by and purchase a pre-sale coupon for the big sale! A percentage of the ticket sales will benefit the homeless pets. There will be a table set up inside the store with information about the sale and information about the shelter.\nThere will also be an adoptable dog from the shelter there!
URL:https://heritagehumane.org/event/fall-belk-charity-sale-8/
LOCATION:Belk Williamsburg\, 4900-3 Monticello Ave.\, Williamsburg\, VA\, 23188\, United States
CATEGORIES:Auxiliary,Charity,Event
ORGANIZER;CN="Heritage Humane Society Auxiliary":MAILTO:auxiliary@heritagehumanesociety.org
END:VEVENT
BEGIN:VEVENT
DTSTART;TZID=America/New_York:20241109T110000
DTEND;TZID=America/New_York:20241109T130000
DTSTAMP:20260419T123407
CREATED:20240109T180804Z
LAST-MODIFIED:20240109T180804Z
UID:52980-1731150000-1731157200@heritagehumane.org
SUMMARY:2nd Saturdays at Nautical Dog
DESCRIPTION:Saturday\, November 9 from 11 am – 1 pm\nMeet your new best friend. Every 2nd Saturday (unless otherwise noted) meet adoptable dogs from Heritage Humane Society at Nautical Dog from 11 am – 1 pm. \n \nLocation: Nautical Dog\, 5102-B Main Street\, Williamsburg\, VA 23188\nCLICK HERE to learn more about our adoptable pets!\nCLICK HERE to see the event flyer
URL:https://heritagehumane.org/event/2nd-saturdays-at-nautical-dog-43/
LOCATION:Nautical Dog\, 5102-B Main Street\, Williamsburg\, VA\, 23188\, United States
CATEGORIES:Adoption,Event
ATTACH;FMTTYPE=image/jpeg:https://heritagehumane.org/wp-content/uploads/2021/04/2nd-Saturday-at-ND.jpg
ORGANIZER;CN="Heritage Humane Society":MAILTO:info@heritagehumanesociety.org
END:VEVENT
BEGIN:VEVENT
DTSTART;TZID=America/New_York:20241110T130000
DTEND;TZID=America/New_York:20241110T150000
DTSTAMP:20260419T123407
CREATED:20241002T210922Z
LAST-MODIFIED:20241002T210922Z
UID:60929-1731243600-1731250800@heritagehumane.org
SUMMARY:Fall Belk Charity Sale
DESCRIPTION:Belk is having their Fall Belk Charity Sale from November 8 – 10.\nVolunteers from the Heritage Humane Society Auxiliary will be at Belk on Sunday\, November 10 from 1 p.m. – 3 p.m. with sale coupons.\nCome by and purchase a pre-sale coupon for the big sale! A percentage of the ticket sales will benefit the homeless pets. There will be a table set up inside the store with information about the sale and information about the shelter.\nThere will also be an adoptable dog from the shelter there!
URL:https://heritagehumane.org/event/fall-belk-charity-sale-9/
LOCATION:Belk Williamsburg\, 4900-3 Monticello Ave.\, Williamsburg\, VA\, 23188\, United States
CATEGORIES:Auxiliary,Charity,Event
ORGANIZER;CN="Heritage Humane Society Auxiliary":MAILTO:auxiliary@heritagehumanesociety.org
END:VEVENT
BEGIN:VEVENT
DTSTART;TZID=America/New_York:20241123T090000
DTEND;TZID=America/New_York:20241123T150000
DTSTAMP:20260419T123407
CREATED:20240726T183129Z
LAST-MODIFIED:20240726T183225Z
UID:58250-1732352400-1732374000@heritagehumane.org
SUMMARY:Holiday Bazaar
DESCRIPTION:Holiday Bazaar |  Saturday\, November 23\, 2024\n9 a.m. – 3 p.m.  |  Bruton Parish Hall\nJoin us at the annual Holiday Bazaar at Bruton Parish Hall\, Duke of Gloucester Street\, Williamsburg.  All proceeds benefit homeless animals at The Heritage Humane Society.\nYou’ll find unique gifts and stocking stuffers for all the people and pets on your list. Come early for the best selections of gourmet soups and baked goods for your celebrations. We have themed baskets and hand-crafted gifts\, as well as a wide selection of jewelry\, scarves\, books\, stuffed animals\, holiday decorations\, and more!  Your favorite pets will enjoy toys\, togs\, and treats in their holiday “critter baskets”. Try your luck at our raffles\, with a chance to win exciting prizes.\nClick here to learn more.
URL:https://heritagehumane.org/event/holiday-bazaar-2024/
LOCATION:Bruton Parish Hall\, 331 W Duke of Gloucester St.\, Williamsburg\, VA\, 23185\, United States
CATEGORIES:Auxiliary,Event
ORGANIZER;CN="Heritage Humane Society Auxiliary":MAILTO:auxiliary@heritagehumanesociety.org
END:VEVENT
END:VCALENDAR