BEGIN:VCALENDAR
VERSION:2.0
PRODID:-//Heritage Humane - ECPv6.15.13//NONSGML v1.0//EN
CALSCALE:GREGORIAN
METHOD:PUBLISH
X-ORIGINAL-URL:https://heritagehumane.org
X-WR-CALDESC:Events for Heritage Humane
REFRESH-INTERVAL;VALUE=DURATION:PT1H
X-Robots-Tag:noindex
X-PUBLISHED-TTL:PT1H
BEGIN:VTIMEZONE
TZID:America/New_York
BEGIN:DAYLIGHT
TZOFFSETFROM:-0500
TZOFFSETTO:-0400
TZNAME:EDT
DTSTART:20240310T070000
END:DAYLIGHT
BEGIN:STANDARD
TZOFFSETFROM:-0400
TZOFFSETTO:-0500
TZNAME:EST
DTSTART:20241103T060000
END:STANDARD
BEGIN:DAYLIGHT
TZOFFSETFROM:-0500
TZOFFSETTO:-0400
TZNAME:EDT
DTSTART:20250309T070000
END:DAYLIGHT
BEGIN:STANDARD
TZOFFSETFROM:-0400
TZOFFSETTO:-0500
TZNAME:EST
DTSTART:20251102T060000
END:STANDARD
BEGIN:DAYLIGHT
TZOFFSETFROM:-0500
TZOFFSETTO:-0400
TZNAME:EDT
DTSTART:20260308T070000
END:DAYLIGHT
BEGIN:STANDARD
TZOFFSETFROM:-0400
TZOFFSETTO:-0500
TZNAME:EST
DTSTART:20261101T060000
END:STANDARD
END:VTIMEZONE
BEGIN:VEVENT
DTSTART;TZID=America/New_York:20250115T143000
DTEND;TZID=America/New_York:20250115T160000
DTSTAMP:20260419T144014
CREATED:20241219T204344Z
LAST-MODIFIED:20241219T204344Z
UID:63125-1736951400-1736956800@heritagehumane.org
SUMMARY:Adopt Me Maybe At Strangeways Brewing
DESCRIPTION:Come by Strangeways Brewing on Wednesday\, January 15 from 2:30 – 4 PM to meet an adoptable dog from The Heritage Humane Society. The pup will be hanging out at Strangeways and would love some visitors. Strangeways is kindly sponsoring $150 of the dog’s adoption fee! We hope to see you there!\nVisit heritagehumane.org/dogs to learn more about our adoptable dogs.
URL:https://heritagehumane.org/event/adopt-me-maybe-at-strangeways-brewing-2025/
LOCATION:Strangeways Brewing\, 1430 High Street #1103\, Williamsburg\, VA\, 23185\, United States
CATEGORIES:Adoption,Event
END:VEVENT
BEGIN:VEVENT
DTSTART;TZID=America/New_York:20250118T110000
DTEND;TZID=America/New_York:20250118T130000
DTSTAMP:20260419T144014
CREATED:20241227T222215Z
LAST-MODIFIED:20250109T162536Z
UID:63405-1737198000-1737205200@heritagehumane.org
SUMMARY:2nd Saturdays at Nautical Dog
DESCRIPTION:Saturday\, January 18 from 11 am – 1 pm\nMeet your new best friend. Every 2nd Saturday (unless otherwise noted) meet adoptable dogs from Heritage Humane Society at Nautical Dog from 11 am – 1 pm. \n \nLocation: Nautical Dog\, 5102-B Main Street\, Williamsburg\, VA 23188\nCLICK HERE to learn more about our adoptable pets!
URL:https://heritagehumane.org/event/2nd-saturdays-at-nautical-dog-45/
LOCATION:Nautical Dog\, 5102-B Main Street\, Williamsburg\, VA\, 23188\, United States
CATEGORIES:Adoption,Event
ATTACH;FMTTYPE=image/jpeg:https://heritagehumane.org/wp-content/uploads/2021/04/2nd-Saturday-at-ND.jpg
ORGANIZER;CN="Heritage Humane Society":MAILTO:info@heritagehumanesociety.org
END:VEVENT
BEGIN:VEVENT
DTSTART;TZID=America/New_York:20250118T110000
DTEND;TZID=America/New_York:20250118T130000
DTSTAMP:20260419T144014
CREATED:20250226T151949Z
LAST-MODIFIED:20250226T151949Z
UID:65347-1737198000-1737205200@heritagehumane.org
SUMMARY:2nd Saturdays at Nautical Dog
DESCRIPTION:Saturday\, January 18 from 11 am – 1 pm\nMeet your new best friend. Every 2nd Saturday (unless otherwise noted) meet adoptable dogs from Heritage Humane Society at Nautical Dog from 11 am – 1 pm. \n \nLocation: Nautical Dog\, 5102-B Main Street\, Williamsburg\, VA 23188\nCLICK HERE to learn more about our adoptable pets!
URL:https://heritagehumane.org/event/2nd-saturdays-at-nautical-dog-57/
LOCATION:Nautical Dog\, 5102-B Main Street\, Williamsburg\, VA\, 23188\, United States
CATEGORIES:Adoption,Event
ATTACH;FMTTYPE=image/jpeg:https://heritagehumane.org/wp-content/uploads/2021/04/2nd-Saturday-at-ND.jpg
ORGANIZER;CN="Heritage Humane Society":MAILTO:info@heritagehumanesociety.org
END:VEVENT
BEGIN:VEVENT
DTSTART;TZID=America/New_York:20250126T083000
DTEND;TZID=America/New_York:20250126T093000
DTSTAMP:20260419T144014
CREATED:20241227T145812Z
LAST-MODIFIED:20241227T145944Z
UID:63323-1737880200-1737883800@heritagehumane.org
SUMMARY:Charity Yoga Class
DESCRIPTION:Join us at Frothy Moon Brewhouse on Sunday\, January 26 from 8:30 am – 9:30 am for a donation-based yoga class with Jessica Ruff Yoga to benefit the homeless pets at The Heritage Humane Society. \nThis is a gentle yoga class accessible to yogis of all levels and beginner-friendly\, modifications will be offered to meet the needs of all personal practices. \nDid you know Frothy Moon has a coffee bar? Enjoy the best brewed coffee this side of the moon after your yoga practice. \nNo reservation is needed. Just show up with your yoga mat and be ready to breathe\, move\, and have fun!
URL:https://heritagehumane.org/event/charity-yoga-class/
LOCATION:Frothy Moon Brewhouse\, 1826 Jamestown Rd.\, Williamsburg\, VA\, 23185\, United States
CATEGORIES:Event,Fundraiser
END:VEVENT
END:VCALENDAR