BEGIN:VCALENDAR
VERSION:2.0
PRODID:-//Heritage Humane - ECPv6.15.13//NONSGML v1.0//EN
CALSCALE:GREGORIAN
METHOD:PUBLISH
X-WR-CALNAME:Heritage Humane
X-ORIGINAL-URL:https://heritagehumane.org
X-WR-CALDESC:Events for Heritage Humane
REFRESH-INTERVAL;VALUE=DURATION:PT1H
X-Robots-Tag:noindex
X-PUBLISHED-TTL:PT1H
BEGIN:VTIMEZONE
TZID:America/New_York
BEGIN:DAYLIGHT
TZOFFSETFROM:-0500
TZOFFSETTO:-0400
TZNAME:EDT
DTSTART:20240310T070000
END:DAYLIGHT
BEGIN:STANDARD
TZOFFSETFROM:-0400
TZOFFSETTO:-0500
TZNAME:EST
DTSTART:20241103T060000
END:STANDARD
BEGIN:DAYLIGHT
TZOFFSETFROM:-0500
TZOFFSETTO:-0400
TZNAME:EDT
DTSTART:20250309T070000
END:DAYLIGHT
BEGIN:STANDARD
TZOFFSETFROM:-0400
TZOFFSETTO:-0500
TZNAME:EST
DTSTART:20251102T060000
END:STANDARD
BEGIN:DAYLIGHT
TZOFFSETFROM:-0500
TZOFFSETTO:-0400
TZNAME:EDT
DTSTART:20260308T070000
END:DAYLIGHT
BEGIN:STANDARD
TZOFFSETFROM:-0400
TZOFFSETTO:-0500
TZNAME:EST
DTSTART:20261101T060000
END:STANDARD
END:VTIMEZONE
BEGIN:VEVENT
DTSTART;TZID=America/New_York:20250308T110000
DTEND;TZID=America/New_York:20250308T130000
DTSTAMP:20260419T164327
CREATED:20250109T165714Z
LAST-MODIFIED:20250109T165714Z
UID:63694-1741431600-1741438800@heritagehumane.org
SUMMARY:2nd Saturdays at Nautical Dog
DESCRIPTION:Saturday\, March 8 from 11 am – 1 pm\nMeet your new best friend. Every 2nd Saturday (unless otherwise noted) meet adoptable dogs from Heritage Humane Society at Nautical Dog from 11 am – 1 pm. \n \nLocation: Nautical Dog\, 5102-B Main Street\, Williamsburg\, VA 23188\nCLICK HERE to learn more about our adoptable pets!
URL:https://heritagehumane.org/event/2nd-saturdays-at-nautical-dog-47/
LOCATION:Nautical Dog\, 5102-B Main Street\, Williamsburg\, VA\, 23188\, United States
CATEGORIES:Adoption,Event
ATTACH;FMTTYPE=image/jpeg:https://heritagehumane.org/wp-content/uploads/2021/04/2nd-Saturday-at-ND.jpg
ORGANIZER;CN="Heritage Humane Society":MAILTO:info@heritagehumanesociety.org
END:VEVENT
BEGIN:VEVENT
DTSTART;TZID=America/New_York:20250308T110000
DTEND;TZID=America/New_York:20250308T130000
DTSTAMP:20260419T164327
CREATED:20250226T152124Z
LAST-MODIFIED:20250226T152231Z
UID:65352-1741431600-1741438800@heritagehumane.org
SUMMARY:2nd Saturdays at Nautical Dog
DESCRIPTION:Saturday\, March 8 from 11 am – 1 pm\nMeet your new best friend. Every 2nd Saturday (unless otherwise noted) meet adoptable dogs from Heritage Humane Society at Nautical Dog from 11 am – 1 pm. \n \nLocation: Nautical Dog\, 5102-B Main Street\, Williamsburg\, VA 23188\nCLICK HERE to learn more about our adoptable pets!
URL:https://heritagehumane.org/event/2nd-saturdays-at-nautical-dog-59/
LOCATION:Nautical Dog\, 5102-B Main Street\, Williamsburg\, VA\, 23188\, United States
CATEGORIES:Adoption,Event
ATTACH;FMTTYPE=image/jpeg:https://heritagehumane.org/wp-content/uploads/2021/04/2nd-Saturday-at-ND.jpg
ORGANIZER;CN="Heritage Humane Society":MAILTO:info@heritagehumanesociety.org
END:VEVENT
BEGIN:VEVENT
DTSTART;TZID=America/New_York:20250315T120000
DTEND;TZID=America/New_York:20250315T140000
DTSTAMP:20260419T164327
CREATED:20250122T191916Z
LAST-MODIFIED:20250122T191916Z
UID:64003-1742040000-1742047200@heritagehumane.org
SUMMARY:Shop & Adopt at Parker & Peony Boutique
DESCRIPTION:
URL:https://heritagehumane.org/event/shop-adopt-at-parker-peony-boutique-march15/
LOCATION:Parker & Peony Boutique\, 701 Merrimac Trail C\, Williamsburg\, VA\, 23185\, United States
CATEGORIES:Adoption,Event
END:VEVENT
BEGIN:VEVENT
DTSTART;TZID=America/New_York:20250322T100000
DTEND;TZID=America/New_York:20250322T140000
DTSTAMP:20260419T164327
CREATED:20250226T181646Z
LAST-MODIFIED:20250226T181646Z
UID:65451-1742637600-1742652000@heritagehumane.org
SUMMARY:Fido Fest
DESCRIPTION:FIDO FEST\nSaturday\, March 22\, 2025 |  10 AM – 2 PM\nLocation: Jamestown Beach Event Park\nDon’t miss the PAW-TY! Join us on Saturday\, March 23\, 10 AM – 2 PM at Jamestown Beach Event Park\, a family festival featuring dog-friendly activities\, games\, and contests. Food\, merchandise\, and community vendors will also be onsite.\nHeritage Humane Society will have an information table at the event.\nLeashed pets only. No retractable leashes. Dogs must be current on vaccines. Admission is $5 per car.\nOrganized by James City County Parks & Recreation.\nCLICK HERE to learn more about the event.
URL:https://heritagehumane.org/event/fido-fest-2025/
LOCATION:Jamestown Beach Event Park\, 2205 Jamestown Rd.\, Williamsburg\, WV\, 23185\, United States
CATEGORIES:Charity,Event
ORGANIZER;CN="Heritage Humane Society":MAILTO:info@heritagehumanesociety.org
END:VEVENT
BEGIN:VEVENT
DTSTART;TZID=America/New_York:20250329T120000
DTEND;TZID=America/New_York:20250329T140000
DTSTAMP:20260419T164327
CREATED:20250321T171957Z
LAST-MODIFIED:20250321T171957Z
UID:66019-1743249600-1743256800@heritagehumane.org
SUMMARY:Spring Fling at Dominion Dogs
DESCRIPTION:Paws & Pints! Join us at Dominion Dogs for a fun afternoon! Meet an adorable adoptable pup\, learn about our mission\, enjoy delicious hot dogs\, and sample craft beers from Wasserhund Brewery. A portion of lunch sales will benefit Heritage Humane Society!
URL:https://heritagehumane.org/event/spring-fling-at-dominion-dogs/
LOCATION:Dominion Dogs\, Hot Dogs\, 701 Merrimac Trail\, Williamsburg\, VA\, 23185\, United States
CATEGORIES:Adoption,Charity,Event
END:VEVENT
END:VCALENDAR