BEGIN:VCALENDAR
VERSION:2.0
PRODID:-//Heritage Humane - ECPv6.15.13//NONSGML v1.0//EN
CALSCALE:GREGORIAN
METHOD:PUBLISH
X-WR-CALNAME:Heritage Humane
X-ORIGINAL-URL:https://heritagehumane.org
X-WR-CALDESC:Events for Heritage Humane
REFRESH-INTERVAL;VALUE=DURATION:PT1H
X-Robots-Tag:noindex
X-PUBLISHED-TTL:PT1H
BEGIN:VTIMEZONE
TZID:America/New_York
BEGIN:DAYLIGHT
TZOFFSETFROM:-0500
TZOFFSETTO:-0400
TZNAME:EDT
DTSTART:20240310T070000
END:DAYLIGHT
BEGIN:STANDARD
TZOFFSETFROM:-0400
TZOFFSETTO:-0500
TZNAME:EST
DTSTART:20241103T060000
END:STANDARD
BEGIN:DAYLIGHT
TZOFFSETFROM:-0500
TZOFFSETTO:-0400
TZNAME:EDT
DTSTART:20250309T070000
END:DAYLIGHT
BEGIN:STANDARD
TZOFFSETFROM:-0400
TZOFFSETTO:-0500
TZNAME:EST
DTSTART:20251102T060000
END:STANDARD
BEGIN:DAYLIGHT
TZOFFSETFROM:-0500
TZOFFSETTO:-0400
TZNAME:EDT
DTSTART:20260308T070000
END:DAYLIGHT
BEGIN:STANDARD
TZOFFSETFROM:-0400
TZOFFSETTO:-0500
TZNAME:EST
DTSTART:20261101T060000
END:STANDARD
END:VTIMEZONE
BEGIN:VEVENT
DTSTART;TZID=America/New_York:20250412T110000
DTEND;TZID=America/New_York:20250412T130000
DTSTAMP:20260419T174754
CREATED:20250109T165801Z
LAST-MODIFIED:20250109T165801Z
UID:63696-1744455600-1744462800@heritagehumane.org
SUMMARY:2nd Saturdays at Nautical Dog
DESCRIPTION:Saturday\, April 12 from 11 am – 1 pm\nMeet your new best friend. Every 2nd Saturday (unless otherwise noted) meet adoptable dogs from Heritage Humane Society at Nautical Dog from 11 am – 1 pm. \n \nLocation: Nautical Dog\, 5102-B Main Street\, Williamsburg\, VA 23188\nCLICK HERE to learn more about our adoptable pets!
URL:https://heritagehumane.org/event/2nd-saturdays-at-nautical-dog-48/
LOCATION:Nautical Dog\, 5102-B Main Street\, Williamsburg\, VA\, 23188\, United States
CATEGORIES:Adoption,Event
ATTACH;FMTTYPE=image/jpeg:https://heritagehumane.org/wp-content/uploads/2021/04/2nd-Saturday-at-ND.jpg
ORGANIZER;CN="Heritage Humane Society":MAILTO:info@heritagehumanesociety.org
END:VEVENT
BEGIN:VEVENT
DTSTART;TZID=America/New_York:20250412T110000
DTEND;TZID=America/New_York:20250412T130000
DTSTAMP:20260419T174754
CREATED:20250303T211106Z
LAST-MODIFIED:20250303T211125Z
UID:65676-1744455600-1744462800@heritagehumane.org
SUMMARY:Easter Bunny Photos at Williamsburg Bazaar
DESCRIPTION:
URL:https://heritagehumane.org/event/easter-bunny-photos-at-williamsburg-bazaar/
LOCATION:Williamsburg Bazaar\, 5625 Richmond Rd. Suite F120\, Williamsburg\, VA\, 23188\, United States
CATEGORIES:Adoption,Event
END:VEVENT
BEGIN:VEVENT
DTSTART;TZID=America/New_York:20250419T120000
DTEND;TZID=America/New_York:20250419T140000
DTSTAMP:20260419T174754
CREATED:20250124T185010Z
LAST-MODIFIED:20250124T185010Z
UID:64067-1745064000-1745071200@heritagehumane.org
SUMMARY:Come Meet Adoptable Dogs at CMA Williamsburg Ford
DESCRIPTION:Come by CMA Williamsburg Ford on Saturday\, April 19 from 12 – 2 p.m. Adoptable dogs from The Heritage Humane Society will be there and CMA Williamsburg Ford has kindly agreed to sponsor their adoption fees! Visit heritagehumane.org/dogs to learn more about our available dogs.\n 
URL:https://heritagehumane.org/event/come-meet-adoptable-dogs-at-cma-williamsburg-ford/
LOCATION:CMA Williamsburg Ford\, 701 E Rochambeau Dr.\, Williamsburg\, VA\, 23188\, United States
CATEGORIES:Adoption,Event
END:VEVENT
BEGIN:VEVENT
DTSTART;TZID=America/New_York:20250425T170000
DTEND;TZID=America/New_York:20250425T210000
DTSTAMP:20260419T174754
CREATED:20250401T194622Z
LAST-MODIFIED:20250401T194701Z
UID:66240-1745600400-1745614800@heritagehumane.org
SUMMARY:Pottery Painting Charity Night
DESCRIPTION:Join us on Friday\, April 25th\, from 5 PM to 9 PM for a fun night of painting and giving back! Choose from our wide selection of pet-themed pottery (or any piece you like) and enjoy a discounted studio fee of just $5 per person. A portion of the proceeds will benefit the Heritage Humane Society\, supporting their work with animals in need. Plus\, a volunteer from the Heritage Humane Society will be present to provide information about their mission and how you can help. No reservations needed\, walk-ins welcome!\nCome paint\, learn\, and support a great cause!
URL:https://heritagehumane.org/event/pottery-painting-charity-night/
LOCATION:Paint on Pottery\, 1430 High St.\, Suite 504\, Williamsburg\, VA\, 23185\, United States
CATEGORIES:Charity,Event
END:VEVENT
END:VCALENDAR