BEGIN:VCALENDAR
VERSION:2.0
PRODID:-//Heritage Humane - ECPv6.15.13//NONSGML v1.0//EN
CALSCALE:GREGORIAN
METHOD:PUBLISH
X-ORIGINAL-URL:https://heritagehumane.org
X-WR-CALDESC:Events for Heritage Humane
REFRESH-INTERVAL;VALUE=DURATION:PT1H
X-Robots-Tag:noindex
X-PUBLISHED-TTL:PT1H
BEGIN:VTIMEZONE
TZID:America/New_York
BEGIN:DAYLIGHT
TZOFFSETFROM:-0500
TZOFFSETTO:-0400
TZNAME:EDT
DTSTART:20230312T070000
END:DAYLIGHT
BEGIN:STANDARD
TZOFFSETFROM:-0400
TZOFFSETTO:-0500
TZNAME:EST
DTSTART:20231105T060000
END:STANDARD
BEGIN:DAYLIGHT
TZOFFSETFROM:-0500
TZOFFSETTO:-0400
TZNAME:EDT
DTSTART:20240310T070000
END:DAYLIGHT
BEGIN:STANDARD
TZOFFSETFROM:-0400
TZOFFSETTO:-0500
TZNAME:EST
DTSTART:20241103T060000
END:STANDARD
BEGIN:DAYLIGHT
TZOFFSETFROM:-0500
TZOFFSETTO:-0400
TZNAME:EDT
DTSTART:20250309T070000
END:DAYLIGHT
BEGIN:STANDARD
TZOFFSETFROM:-0400
TZOFFSETTO:-0500
TZNAME:EST
DTSTART:20251102T060000
END:STANDARD
END:VTIMEZONE
BEGIN:VEVENT
DTSTART;TZID=America/New_York:20240323T100000
DTEND;TZID=America/New_York:20240323T140000
DTSTAMP:20260419T104955
CREATED:20231025T180916Z
LAST-MODIFIED:20240320T174037Z
UID:51205-1711188000-1711202400@heritagehumane.org
SUMMARY:Fido Fest
DESCRIPTION:FIDO FEST\nSaturday\, March 23  |  10 AM – 2 PM\nLocation: Jamestown Beach Event Park\nUPDATE: This event has been canceled due to inclement weather.\nDon’t miss the PAW-TY! Join us on Saturday\, March 23\, 10 AM – 2 PM at Jamestown Beach Event Park\, a family festival featuring dog-friendly activities\, games\, and contests. Food\, merchandise\, and community vendors will also be onsite.\nHeritage Humane Society will have an information table and adoptable dogs at the event. All proceeds from the bake sale benefit the homeless pets.\nAll dogs attending Fido Fest must be on a leash no more than 8′ long. No retractable leashes. Dogs must be current on vaccines. Admission is $5 per car\, cash or check only.\nCo-hosted by Heritage Humane Society and James City County Parks & Recreation.\nCLICK HERE to learn more about the event.
URL:https://heritagehumane.org/event/fido-fest-4/
LOCATION:Jamestown Beach Event Park\, 2205 Jamestown Rd.\, Williamsburg\, WV\, 23185\, United States
CATEGORIES:Charity,Event
ORGANIZER;CN="Heritage Humane Society":MAILTO:info@heritagehumanesociety.org
END:VEVENT
END:VCALENDAR