BEGIN:VCALENDAR
VERSION:2.0
PRODID:-//Heritage Humane - ECPv6.15.13//NONSGML v1.0//EN
CALSCALE:GREGORIAN
METHOD:PUBLISH
X-WR-CALNAME:Heritage Humane
X-ORIGINAL-URL:https://heritagehumane.org
X-WR-CALDESC:Events for Heritage Humane
REFRESH-INTERVAL;VALUE=DURATION:PT1H
X-Robots-Tag:noindex
X-PUBLISHED-TTL:PT1H
BEGIN:VTIMEZONE
TZID:America/New_York
BEGIN:DAYLIGHT
TZOFFSETFROM:-0500
TZOFFSETTO:-0400
TZNAME:EDT
DTSTART:20230312T070000
END:DAYLIGHT
BEGIN:STANDARD
TZOFFSETFROM:-0400
TZOFFSETTO:-0500
TZNAME:EST
DTSTART:20231105T060000
END:STANDARD
BEGIN:DAYLIGHT
TZOFFSETFROM:-0500
TZOFFSETTO:-0400
TZNAME:EDT
DTSTART:20240310T070000
END:DAYLIGHT
BEGIN:STANDARD
TZOFFSETFROM:-0400
TZOFFSETTO:-0500
TZNAME:EST
DTSTART:20241103T060000
END:STANDARD
BEGIN:DAYLIGHT
TZOFFSETFROM:-0500
TZOFFSETTO:-0400
TZNAME:EDT
DTSTART:20250309T070000
END:DAYLIGHT
BEGIN:STANDARD
TZOFFSETFROM:-0400
TZOFFSETTO:-0500
TZNAME:EST
DTSTART:20251102T060000
END:STANDARD
END:VTIMEZONE
BEGIN:VEVENT
DTSTART;TZID=America/New_York:20240608T080000
DTEND;TZID=America/New_York:20240608T110000
DTSTAMP:20260419T081947
CREATED:20240516T161304Z
LAST-MODIFIED:20240516T161304Z
UID:55999-1717833600-1717844400@heritagehumane.org
SUMMARY:Precarious Beer Hall 5th Anniversary 5k
DESCRIPTION:CHEERS TO 5 YEARS!\nIn celebration of Precarious Beer Projects’ beer hall turning 5\, they are hosting a 5K run through Colonial Williamsburg!\nAfterparty Extravaganza: The fun doesn’t stop at the finish line! Join us after the run for an epic afterparty at Precarious\, with DJ Brannu\, breakfast\, and\, of course\, craft beer for the ultimate refueling.\nPrizes and Swag: Top finishers will be rewarded with awesome prizes! All participants will receive a commemorative t-shirt and medal.\nWhether you’re a seasoned runner or simply looking for a unique way to celebrate – sign up now to secure your spot for a day of fun\, fitness\, and fantastic brews! \nA portion of registration fees will go to benefit The Heritage Humane Society.\n \n\n\nSign Up Online
URL:https://heritagehumane.org/event/precarious-beer-hall-5th-anniversary-5k/
LOCATION:Precarious Beer Project\, 110 S. Henry Street\, Williamsburg\, VA\, 23185\, United States
CATEGORIES:Charity,Event
END:VEVENT
BEGIN:VEVENT
DTSTART;TZID=America/New_York:20240608T110000
DTEND;TZID=America/New_York:20240608T130000
DTSTAMP:20260419T081947
CREATED:20240109T180525Z
LAST-MODIFIED:20240109T180525Z
UID:52970-1717844400-1717851600@heritagehumane.org
SUMMARY:2nd Saturdays at Nautical Dog
DESCRIPTION:Saturday\, June 8 from 11 am – 1 pm\nMeet your new best friend. Every 2nd Saturday (unless otherwise noted) meet adoptable dogs from Heritage Humane Society at Nautical Dog from 11 am – 1 pm. \n \nLocation: Nautical Dog\, 5102-B Main Street\, Williamsburg\, VA 23188\nCLICK HERE to learn more about our adoptable pets!\nCLICK HERE to see the event flyer
URL:https://heritagehumane.org/event/2nd-saturdays-at-nautical-dog-38/
LOCATION:Nautical Dog\, 5102-B Main Street\, Williamsburg\, VA\, 23188\, United States
CATEGORIES:Adoption,Event
ATTACH;FMTTYPE=image/jpeg:https://heritagehumane.org/wp-content/uploads/2021/04/2nd-Saturday-at-ND.jpg
ORGANIZER;CN="Heritage Humane Society":MAILTO:info@heritagehumanesociety.org
END:VEVENT
END:VCALENDAR