BEGIN:VCALENDAR
VERSION:2.0
PRODID:-//Heritage Humane - ECPv6.15.13//NONSGML v1.0//EN
CALSCALE:GREGORIAN
METHOD:PUBLISH
X-ORIGINAL-URL:https://heritagehumane.org
X-WR-CALDESC:Events for Heritage Humane
REFRESH-INTERVAL;VALUE=DURATION:PT1H
X-Robots-Tag:noindex
X-PUBLISHED-TTL:PT1H
BEGIN:VTIMEZONE
TZID:America/New_York
BEGIN:DAYLIGHT
TZOFFSETFROM:-0500
TZOFFSETTO:-0400
TZNAME:EDT
DTSTART:20230312T070000
END:DAYLIGHT
BEGIN:STANDARD
TZOFFSETFROM:-0400
TZOFFSETTO:-0500
TZNAME:EST
DTSTART:20231105T060000
END:STANDARD
BEGIN:DAYLIGHT
TZOFFSETFROM:-0500
TZOFFSETTO:-0400
TZNAME:EDT
DTSTART:20240310T070000
END:DAYLIGHT
BEGIN:STANDARD
TZOFFSETFROM:-0400
TZOFFSETTO:-0500
TZNAME:EST
DTSTART:20241103T060000
END:STANDARD
BEGIN:DAYLIGHT
TZOFFSETFROM:-0500
TZOFFSETTO:-0400
TZNAME:EDT
DTSTART:20250309T070000
END:DAYLIGHT
BEGIN:STANDARD
TZOFFSETFROM:-0400
TZOFFSETTO:-0500
TZNAME:EST
DTSTART:20251102T060000
END:STANDARD
END:VTIMEZONE
BEGIN:VEVENT
DTSTART;TZID=America/New_York:20240704T140000
DTEND;TZID=America/New_York:20240704T160000
DTSTAMP:20260419T082023
CREATED:20240607T185834Z
LAST-MODIFIED:20240607T190415Z
UID:56537-1720101600-1720108800@heritagehumane.org
SUMMARY:4th of July Dog Ice Cream Eating Contest
DESCRIPTION:About the Event:\nJoin us on the 4th of July at Billsburg Brewery for an ice cream eating contest for the dogs!\nThere will be raffles\, adoptable dogs\, delicious food\, great beer\, and a paw-some ice cream eating contest. For $20 you can sign up your pup to participate in the contest (40 contestants maximum). Prizes will be awarded to the top 4 fastest ice cream eaters. The contest will take place next to The Hungry Pug Food Truck at Billsburg Brewery at 2 PM. We ask that all dog contestants arrive at least 15 minutes early.\nAll proceeds from the event benefit the homeless pets at The Heritage Humane Society. Register online now. We will also accept walk-up contestants on the day of the event if we have not reached our contestant maximum.\nSpecial thank you to The Meadows Original Frozen Custard for donating the ice cream for the contest.\nSign Up:\nFor $20 you can sign your pup up. We will also accept walk-up contestants on the day of the event if we have not reached our contestant maximum.\n\n\nRegister Your Dog For The Contest
URL:https://heritagehumane.org/event/4th-of-july-dog-ice-cream-eating-contest/
LOCATION:Billsburg Brewery\, 2054 Jamestown Rd\, Williamsburg\, VA\, 23185\, United States
CATEGORIES:Adoption,Event,Fundraiser
END:VEVENT
END:VCALENDAR