BEGIN:VCALENDAR
VERSION:2.0
PRODID:-//Heritage Humane - ECPv6.15.13//NONSGML v1.0//EN
CALSCALE:GREGORIAN
METHOD:PUBLISH
X-ORIGINAL-URL:https://heritagehumane.org
X-WR-CALDESC:Events for Heritage Humane
REFRESH-INTERVAL;VALUE=DURATION:PT1H
X-Robots-Tag:noindex
X-PUBLISHED-TTL:PT1H
BEGIN:VTIMEZONE
TZID:America/New_York
BEGIN:DAYLIGHT
TZOFFSETFROM:-0500
TZOFFSETTO:-0400
TZNAME:EDT
DTSTART:20230312T070000
END:DAYLIGHT
BEGIN:STANDARD
TZOFFSETFROM:-0400
TZOFFSETTO:-0500
TZNAME:EST
DTSTART:20231105T060000
END:STANDARD
BEGIN:DAYLIGHT
TZOFFSETFROM:-0500
TZOFFSETTO:-0400
TZNAME:EDT
DTSTART:20240310T070000
END:DAYLIGHT
BEGIN:STANDARD
TZOFFSETFROM:-0400
TZOFFSETTO:-0500
TZNAME:EST
DTSTART:20241103T060000
END:STANDARD
BEGIN:DAYLIGHT
TZOFFSETFROM:-0500
TZOFFSETTO:-0400
TZNAME:EDT
DTSTART:20250309T070000
END:DAYLIGHT
BEGIN:STANDARD
TZOFFSETFROM:-0400
TZOFFSETTO:-0500
TZNAME:EST
DTSTART:20251102T060000
END:STANDARD
END:VTIMEZONE
BEGIN:VEVENT
DTSTART;TZID=America/New_York:20240815T170000
DTEND;TZID=America/New_York:20240815T210000
DTSTAMP:20260419T102847
CREATED:20240628T150151Z
LAST-MODIFIED:20240628T150153Z
UID:57305-1723741200-1723755600@heritagehumane.org
SUMMARY:Axe Republic Fundraiser Night
DESCRIPTION:Eat\, throwm drink and help homeless pets in need! Come by Axe Republic on Thursday\, August 15 from 5 – 9 PM for a charity fundraiser night. 20% of sales will be donated back to The Heritage Humane Society. No reservations needed. Walk-ins are welcome.\n \n 
URL:https://heritagehumane.org/event/axe-republic-fundraiser-night-2/
LOCATION:Axe Republic Williamsburg\, 4919 Courthouse St.\, Williamsburg\, VA\, 23188\, United States
CATEGORIES:Charity,Event
END:VEVENT
END:VCALENDAR