BEGIN:VCALENDAR
VERSION:2.0
PRODID:-//Heritage Humane - ECPv6.15.13//NONSGML v1.0//EN
CALSCALE:GREGORIAN
METHOD:PUBLISH
X-ORIGINAL-URL:https://heritagehumane.org
X-WR-CALDESC:Events for Heritage Humane
REFRESH-INTERVAL;VALUE=DURATION:PT1H
X-Robots-Tag:noindex
X-PUBLISHED-TTL:PT1H
BEGIN:VTIMEZONE
TZID:America/New_York
BEGIN:DAYLIGHT
TZOFFSETFROM:-0500
TZOFFSETTO:-0400
TZNAME:EDT
DTSTART:20230312T070000
END:DAYLIGHT
BEGIN:STANDARD
TZOFFSETFROM:-0400
TZOFFSETTO:-0500
TZNAME:EST
DTSTART:20231105T060000
END:STANDARD
BEGIN:DAYLIGHT
TZOFFSETFROM:-0500
TZOFFSETTO:-0400
TZNAME:EDT
DTSTART:20240310T070000
END:DAYLIGHT
BEGIN:STANDARD
TZOFFSETFROM:-0400
TZOFFSETTO:-0500
TZNAME:EST
DTSTART:20241103T060000
END:STANDARD
BEGIN:DAYLIGHT
TZOFFSETFROM:-0500
TZOFFSETTO:-0400
TZNAME:EDT
DTSTART:20250309T070000
END:DAYLIGHT
BEGIN:STANDARD
TZOFFSETFROM:-0400
TZOFFSETTO:-0500
TZNAME:EST
DTSTART:20251102T060000
END:STANDARD
END:VTIMEZONE
BEGIN:VEVENT
DTSTART;TZID=America/New_York:20241005T090000
DTEND;TZID=America/New_York:20241005T140000
DTSTAMP:20260419T112937
CREATED:20240925T190444Z
LAST-MODIFIED:20240925T190445Z
UID:60774-1728118800-1728136800@heritagehumane.org
SUMMARY:Pack the Pallet
DESCRIPTION:
URL:https://heritagehumane.org/event/pack-the-pallet/
LOCATION:Walmart Neighborhood Market\, 4670 Casey Blvd.\, Williamsburg\, VA\, 23188\, United States
CATEGORIES:Charity,Event,Supply Drive
END:VEVENT
BEGIN:VEVENT
DTSTART;TZID=America/New_York:20241005T100000
DTEND;TZID=America/New_York:20241005T140000
DTSTAMP:20260419T112937
CREATED:20240920T155803Z
LAST-MODIFIED:20240920T155806Z
UID:60685-1728122400-1728136800@heritagehumane.org
SUMMARY:Williamsburg Fire Department Open House
DESCRIPTION:Heritage Humane Society will have an information table at the Williamsburg Fire Department Open House on Saturday\, October 5 from 10 am – 2 pm. We hope to see you there!
URL:https://heritagehumane.org/event/williamsburg-fire-department-open-house/
LOCATION:Williamsburg Fire Department\, 440 N Boundary St.\, Williamsburg\, VA\, 23185\, United States
CATEGORIES:Event
END:VEVENT
BEGIN:VEVENT
DTSTART;TZID=America/New_York:20241005T150000
DTEND;TZID=America/New_York:20241005T190000
DTSTAMP:20260419T112937
CREATED:20240506T175556Z
LAST-MODIFIED:20240819T153540Z
UID:55752-1728140400-1728154800@heritagehumane.org
SUMMARY:Paws for Applause
DESCRIPTION:When:\nSaturday\, October 5  |  3 – 7 PM\n\nAbout the Event:\nGet ready for a GOOD TIME! Join us for a charity concert at Alewerks on Saturday\, October 5. Three local bands will be performing live – Rent Party\, Audio Portrait\, and Marsh Hawk. The concert is to benefit The Heritage Humane Society. The event will feature raffles and adoptable dogs. Alwerks is kindly donated 10% of the sales during the concert to The Heritage Humane Society.\n\nThe Lineup:\nThank you to the amazing artists who are performing live at the concert on behalf of the animals.\n\n\nRent Party\n\n\nAudio Portrait\n\n\nMarsh Hawk
URL:https://heritagehumane.org/event/paws-for-applause-2024/
LOCATION:Alewerks\, 189B Ewell Rd\, Williamsburg\, VA\, 23188\, United States
CATEGORIES:Charity,Event
END:VEVENT
END:VCALENDAR