BEGIN:VCALENDAR
VERSION:2.0
PRODID:-//Heritage Humane - ECPv6.15.13//NONSGML v1.0//EN
CALSCALE:GREGORIAN
METHOD:PUBLISH
X-WR-CALNAME:Heritage Humane
X-ORIGINAL-URL:https://heritagehumane.org
X-WR-CALDESC:Events for Heritage Humane
REFRESH-INTERVAL;VALUE=DURATION:PT1H
X-Robots-Tag:noindex
X-PUBLISHED-TTL:PT1H
BEGIN:VTIMEZONE
TZID:America/New_York
BEGIN:DAYLIGHT
TZOFFSETFROM:-0500
TZOFFSETTO:-0400
TZNAME:EDT
DTSTART:20240310T070000
END:DAYLIGHT
BEGIN:STANDARD
TZOFFSETFROM:-0400
TZOFFSETTO:-0500
TZNAME:EST
DTSTART:20241103T060000
END:STANDARD
BEGIN:DAYLIGHT
TZOFFSETFROM:-0500
TZOFFSETTO:-0400
TZNAME:EDT
DTSTART:20250309T070000
END:DAYLIGHT
BEGIN:STANDARD
TZOFFSETFROM:-0400
TZOFFSETTO:-0500
TZNAME:EST
DTSTART:20251102T060000
END:STANDARD
BEGIN:DAYLIGHT
TZOFFSETFROM:-0500
TZOFFSETTO:-0400
TZNAME:EDT
DTSTART:20260308T070000
END:DAYLIGHT
BEGIN:STANDARD
TZOFFSETFROM:-0400
TZOFFSETTO:-0500
TZNAME:EST
DTSTART:20261101T060000
END:STANDARD
END:VTIMEZONE
BEGIN:VEVENT
DTSTART;VALUE=DATE:20250506
DTEND;VALUE=DATE:20250507
DTSTAMP:20260419T205051
CREATED:20250226T175020Z
LAST-MODIFIED:20250226T175201Z
UID:65423-1746489600-1746575999@heritagehumane.org
SUMMARY:Give Local 757!
DESCRIPTION:GIVE LOCAL 757 | May 6\, 2025\nGive Local 757 is on Tuesday\, May 6\, 2025. During this 24-hour period people all around Hampton Roads demonstrate goodwill and kindness by donating toward their favorite causes. We hope you will join them by making a donation to The Heritage Humane Society. Please consider making a difference to help our lifesaving work continue. With your help\, we will be able to provide shelter\, food\, medical attention\, and so much more to thousands of pets this year.\n\n\nWays to Give:\n1) Give Online on May 6\n  \n2) Give by Phone on May 6\n757-221-0150\n  \n3) Give in Person on May 6\n430 Waller Mill Rd.\nWilliamsburg\, VA 23185\n  \n4) Fill out our donation form prior to May 6\nPlease mail to: 430 Waller Mill Rd.\, Williamsburg\, VA 23185\n 
URL:https://heritagehumane.org/event/give-local-757-2025/
LOCATION:Heritage Humane Society
CATEGORIES:Event
ORGANIZER;CN="Heritage Humane Society":MAILTO:info@heritagehumanesociety.org
END:VEVENT
END:VCALENDAR