BEGIN:VCALENDAR
VERSION:2.0
PRODID:-//Heritage Humane - ECPv6.15.13//NONSGML v1.0//EN
CALSCALE:GREGORIAN
METHOD:PUBLISH
X-ORIGINAL-URL:https://heritagehumane.org
X-WR-CALDESC:Events for Heritage Humane
REFRESH-INTERVAL;VALUE=DURATION:PT1H
X-Robots-Tag:noindex
X-PUBLISHED-TTL:PT1H
BEGIN:VTIMEZONE
TZID:America/New_York
BEGIN:DAYLIGHT
TZOFFSETFROM:-0500
TZOFFSETTO:-0400
TZNAME:EDT
DTSTART:20210314T070000
END:DAYLIGHT
BEGIN:STANDARD
TZOFFSETFROM:-0400
TZOFFSETTO:-0500
TZNAME:EST
DTSTART:20211107T060000
END:STANDARD
BEGIN:DAYLIGHT
TZOFFSETFROM:-0500
TZOFFSETTO:-0400
TZNAME:EDT
DTSTART:20220313T070000
END:DAYLIGHT
BEGIN:STANDARD
TZOFFSETFROM:-0400
TZOFFSETTO:-0500
TZNAME:EST
DTSTART:20221106T060000
END:STANDARD
BEGIN:DAYLIGHT
TZOFFSETFROM:-0500
TZOFFSETTO:-0400
TZNAME:EDT
DTSTART:20230312T070000
END:DAYLIGHT
BEGIN:STANDARD
TZOFFSETFROM:-0400
TZOFFSETTO:-0500
TZNAME:EST
DTSTART:20231105T060000
END:STANDARD
END:VTIMEZONE
BEGIN:VEVENT
DTSTART;TZID=America/New_York:20220627T070000
DTEND;TZID=America/New_York:20220718T170000
DTSTAMP:20260425T215635
CREATED:20220620T155813Z
LAST-MODIFIED:20220620T155813Z
UID:37334-1656313200-1658163600@heritagehumane.org
SUMMARY:Hello Summer Pet Photo Contest
DESCRIPTION:Have a photogenic pet? Ever wanted to show off the adorableness of your furry friend? Now is your chance! Enter our Hello Summer Pet Photo Contest! \nSubmissions open at 7 AM on June 27 and close at 5 PM on July 18. \nPhoto submissions are $3/per photo. You can also vote on your favorite photo(s) for $1/vote. Mini prizes will be awarded to the top-voted photo each Friday at 5 PM! The top 3 photos with the most votes when the contest concludes on July 18 will win complimentary photography sessions with Sweet Ellie Photography and one of the images captured at this session will hang on the wall of Heritage Humane Society!\nAll proceeds of this contest will benefit Heritage Humane Society.\n\n\n\n\nLearn More About the Event\n\n\n\nEnter the Contest or Vote HERE\n\nundefined
URL:https://heritagehumane.org/event/hello-summer-pet-photo-contest-2/
CATEGORIES:Fundraiser,Virtual Event
ORGANIZER;CN="Heritage Humane Society":MAILTO:info@heritagehumanesociety.org
END:VEVENT
BEGIN:VEVENT
DTSTART;TZID=America/New_York:20220704T130000
DTEND;TZID=America/New_York:20220704T150000
DTSTAMP:20260425T215635
CREATED:20220614T225529Z
LAST-MODIFIED:20220614T225529Z
UID:37192-1656939600-1656946800@heritagehumane.org
SUMMARY:4th of July Hot Dog Eating Contest
DESCRIPTION:When: Monday\, July 4th at 2pm\nWhere: Billsburg Brewery\, 2054 Jamestown Rd.\, Williamsburg\, VA 23185\nJoin us on 4th of July at Billsburg Brewery for a hot dog eating contest supporting the homeless pets at Heritage Humane Society! Hungry Pug Food Truck will be providing the hot dogs!\nFor $10 you can sign up to participate in the contest (10 contestants maximum). Competitors will help collect donations by asking for sponsors to vote on them to win. Prizes will be awarded to the winner of the hot dog eating contest and the contestant that collects the most donations. All donations will go to Heritage Humane Society.\nThere will also be raffles\, prizes\, music\, and adoptable dogs from Heritage Humane Society there!\nCLICK HERE to learn more about the event and how to sign up to participate!
URL:https://heritagehumane.org/event/4th-of-july-hot-dog-eating-contest-2/
LOCATION:Billsburg Brewery\, 2054 Jamestown Rd\, Williamsburg\, VA\, 23185\, United States
CATEGORIES:Adoption,Event,Fundraiser
ORGANIZER;CN="Heritage Humane Society":MAILTO:info@heritagehumanesociety.org
END:VEVENT
END:VCALENDAR