BEGIN:VCALENDAR
VERSION:2.0
PRODID:-//Heritage Humane - ECPv6.15.13//NONSGML v1.0//EN
CALSCALE:GREGORIAN
METHOD:PUBLISH
X-ORIGINAL-URL:https://heritagehumane.org
X-WR-CALDESC:Events for Heritage Humane
REFRESH-INTERVAL;VALUE=DURATION:PT1H
X-Robots-Tag:noindex
X-PUBLISHED-TTL:PT1H
BEGIN:VTIMEZONE
TZID:America/New_York
BEGIN:DAYLIGHT
TZOFFSETFROM:-0500
TZOFFSETTO:-0400
TZNAME:EDT
DTSTART:20220313T070000
END:DAYLIGHT
BEGIN:STANDARD
TZOFFSETFROM:-0400
TZOFFSETTO:-0500
TZNAME:EST
DTSTART:20221106T060000
END:STANDARD
BEGIN:DAYLIGHT
TZOFFSETFROM:-0500
TZOFFSETTO:-0400
TZNAME:EDT
DTSTART:20230312T070000
END:DAYLIGHT
BEGIN:STANDARD
TZOFFSETFROM:-0400
TZOFFSETTO:-0500
TZNAME:EST
DTSTART:20231105T060000
END:STANDARD
BEGIN:DAYLIGHT
TZOFFSETFROM:-0500
TZOFFSETTO:-0400
TZNAME:EDT
DTSTART:20240310T070000
END:DAYLIGHT
BEGIN:STANDARD
TZOFFSETFROM:-0400
TZOFFSETTO:-0500
TZNAME:EST
DTSTART:20241103T060000
END:STANDARD
END:VTIMEZONE
BEGIN:VEVENT
DTSTART;TZID=America/New_York:20230923T083000
DTEND;TZID=America/New_York:20230923T093000
DTSTAMP:20260422T232041
CREATED:20230911T191522Z
LAST-MODIFIED:20230911T191522Z
UID:49924-1695457800-1695461400@heritagehumane.org
SUMMARY:Kitten Yoga
DESCRIPTION:
URL:https://heritagehumane.org/event/kitten-yoga-2/
LOCATION:Heritage Humane Society
CATEGORIES:Classroom,Fundraiser
END:VEVENT
BEGIN:VEVENT
DTSTART;TZID=America/New_York:20230930T140000
DTEND;TZID=America/New_York:20230930T170000
DTSTAMP:20260422T232041
CREATED:20230104T181813Z
LAST-MODIFIED:20230623T133620Z
UID:43247-1696082400-1696093200@heritagehumane.org
SUMMARY:Paws in the Air
DESCRIPTION:About:\nThe inaugural Paws in the Air event is on Saturday\, Sept. 30 from 2 – 5 PM. It will be held at Legacy Hall in New Town Williamsburg. The event will feature food\, beer\, wine\, a silent auction\, raffles\, live music\, community vendors\, and more! Don’t miss this opportunity to make a difference in homeless pets’ lives and have a great time doing it. We hope to see you there.\nYour ticket includes admission to the event\, a lunch platter provided by Matchsticks BBQ Co (with vegetarian options)\, 2 drink tickets (wine and beer will be available)\, and 1 raffle ticket.\nAll proceeds from the event support our McDuff Endowment Fund at The Heritage Humane Society.\n  \nMcDuff Endowment Fund:\nThe McDuff Endowment Fund is a restricted fund that provides a safety net for the medical needs of homeless pets at The Heritage Humane Society. By making a gift to the McDuff Fund\, you’re ensuring that the lifesaving mission of Greater Williamsburg’s largest shelter continues for many years to come. \nUnable to attend the event? You can still help leave a lasting legacy by making a tax-deductible donation to the McDuff Fund today.\n\n\n\n\nLearn More
URL:https://heritagehumane.org/event/paws-in-the-air/
LOCATION:Legacy Hall\, 4301 New Town Ave.\, Williamsburg\, VA\, 23188\, United States
CATEGORIES:Charity,Event,Fundraiser
ORGANIZER;CN="Heritage Humane Society":MAILTO:info@heritagehumanesociety.org
END:VEVENT
END:VCALENDAR