BEGIN:VCALENDAR
VERSION:2.0
PRODID:-//Heritage Humane - ECPv6.15.13//NONSGML v1.0//EN
CALSCALE:GREGORIAN
METHOD:PUBLISH
X-WR-CALNAME:Heritage Humane
X-ORIGINAL-URL:https://heritagehumane.org
X-WR-CALDESC:Events for Heritage Humane
REFRESH-INTERVAL;VALUE=DURATION:PT1H
X-Robots-Tag:noindex
X-PUBLISHED-TTL:PT1H
BEGIN:VTIMEZONE
TZID:America/New_York
BEGIN:DAYLIGHT
TZOFFSETFROM:-0500
TZOFFSETTO:-0400
TZNAME:EDT
DTSTART:20220313T070000
END:DAYLIGHT
BEGIN:STANDARD
TZOFFSETFROM:-0400
TZOFFSETTO:-0500
TZNAME:EST
DTSTART:20221106T060000
END:STANDARD
BEGIN:DAYLIGHT
TZOFFSETFROM:-0500
TZOFFSETTO:-0400
TZNAME:EDT
DTSTART:20230312T070000
END:DAYLIGHT
BEGIN:STANDARD
TZOFFSETFROM:-0400
TZOFFSETTO:-0500
TZNAME:EST
DTSTART:20231105T060000
END:STANDARD
BEGIN:DAYLIGHT
TZOFFSETFROM:-0500
TZOFFSETTO:-0400
TZNAME:EDT
DTSTART:20240310T070000
END:DAYLIGHT
BEGIN:STANDARD
TZOFFSETFROM:-0400
TZOFFSETTO:-0500
TZNAME:EST
DTSTART:20241103T060000
END:STANDARD
BEGIN:DAYLIGHT
TZOFFSETFROM:-0500
TZOFFSETTO:-0400
TZNAME:EDT
DTSTART:20250309T070000
END:DAYLIGHT
BEGIN:STANDARD
TZOFFSETFROM:-0400
TZOFFSETTO:-0500
TZNAME:EST
DTSTART:20251102T060000
END:STANDARD
END:VTIMEZONE
BEGIN:VEVENT
DTSTART;VALUE=DATE:20231124
DTEND;VALUE=DATE:20240102
DTSTAMP:20260422T182717
CREATED:20230104T162217Z
LAST-MODIFIED:20230104T162217Z
UID:43219-1700784000-1704153599@heritagehumane.org
SUMMARY:Holiday Fur Tree
DESCRIPTION:The Heritage Humane Society Fur Tree is a long-standing tradition in Williamsburg. This Holiday Season\, remember pets and pet-lovers\, both past and present. This tax-deductible contribution will benefit the homeless pets at Heritage Humane Society. The name(s) of the people or pet(s) will be inscribed on the bows; no limit to the number of bows you may purchase.\n$30 – Large Bow\n$15 – Small Bow\nBy remembering your pets and special pet-lovers with a bow\, our community is also remembering our homeless ones\, and we so appreciate it. For the many pets currently in our care\, we are so incredibly grateful for this donation. We have so much to be thankful for at Heritage Humane Society\, and that includes you!\nThe Fur Tree is made possible by the dedicated Heritage Humane Society Auxiliary Volunteers. We are incredibly grateful for their service and dedication.\nCLICK HERE to learn more.
URL:https://heritagehumane.org/event/holiday-fur-tree/
LOCATION:Holiday Fur Tree\, Prince George Street\, Williamsburg\, 23185\, United States
CATEGORIES:Auxiliary,Event,Fundraiser
ATTACH;FMTTYPE=image/jpeg:https://heritagehumane.org/wp-content/uploads/2022/09/DSC_0019.jpg
ORGANIZER;CN="Heritage Humane Society Auxiliary":MAILTO:auxiliary@heritagehumanesociety.org
END:VEVENT
BEGIN:VEVENT
DTSTART;TZID=America/New_York:20240106T140000
DTEND;TZID=America/New_York:20240106T170000
DTSTAMP:20260422T182717
CREATED:20231214T194517Z
LAST-MODIFIED:20231214T211745Z
UID:52405-1704549600-1704560400@heritagehumane.org
SUMMARY:Vision Board Workshop
DESCRIPTION:When:\nWednesday\, January 3  |  2 – 5 PM\nAbout the Event:\nStart 2024 the right way! A key part of welcoming the new year is making resolutions and creating opportunities to reset. This workshop is all about setting intentions\, visualizing your goals\, and creating a powerful vision board that will inspire and motivate you throughout the year. The Vision Board Workshop will be on Saturday\, January 6 from 2 – 5 PM in the HHS classroom. It’s $45 per person. All supplies will be provided as well as light refreshments. You must be 18 years or older to attend.\nProceeds benefit the homeless pets at HHS. Spots are limited\, so sign up today!\nSign Up Online:\nTo reserve your spot\, register online. Registration is $45 per person. 
URL:https://heritagehumane.org/event/vision-board-workshop/
LOCATION:Heritage Humane Society
CATEGORIES:Classroom,Fundraiser
END:VEVENT
BEGIN:VEVENT
DTSTART;VALUE=DATE:20240113
DTEND;VALUE=DATE:20240215
DTSTAMP:20260422T182717
CREATED:20240108T215122Z
LAST-MODIFIED:20240108T215123Z
UID:52933-1705104000-1707955199@heritagehumane.org
SUMMARY:Hearts for Homeless Pets
DESCRIPTION:About:\nNow through Valentine’s Day (February 14)\, we hope you’ll participate in our annual Hearts for Homeless Pets fundraiser by purchasing paper hearts to show your love for pets. You can customize your heart(s) with up to THREE names of pet lovers\, pets\, or the names of adoptable pets at The Heritage Humane Society. \nWe are asking for a $10 or more donation per heart. The hearts will be displayed in our adoption center front lobby (located at 430 Waller Mill Rd.\, Williamsburg\, VA) from Jan. 13 through the end of February. All donations are tax-deductible and will directly benefit the pets in our care.\n\nGift Match Challenge:\nYour donation will go twice as far thanks to generous supporters of HHS who are matching every dollar donated up to $5\,000!\n  \nPurchase Your Hearts Online:\nWe are asking for a $10 or more donation per heart. You can customize your heart(s) with up to THREE names.\nCLICK HERE to purchase your hearts online.
URL:https://heritagehumane.org/event/hearts-for-homeless-pets-2/
LOCATION:Heritage Humane Society
CATEGORIES:Charity,Fundraiser
END:VEVENT
BEGIN:VEVENT
DTSTART;TZID=America/New_York:20240113T083000
DTEND;TZID=America/New_York:20240113T093000
DTSTAMP:20260422T182717
CREATED:20231205T181643Z
LAST-MODIFIED:20231205T181643Z
UID:52262-1705134600-1705138200@heritagehumane.org
SUMMARY:Cat Yoga
DESCRIPTION:Join us in The Heritage Humane Society’s classroom on January 13 at 8:30 a.m. for an hour-long beginner-friendly gentle yoga practice. It will be a donation-based yoga class to benefit the homeless pets at the shelter. This is a gentle yoga class accessible to yogis of all levels and beginner-friendly\, modifications will be offered to meet the needs of all personal practices. Just show up with your yoga mat and be ready to breathe\, move\, have fun\, and meet some adorable\, adoptable CATS!\nYou must pre-register online to secure your spot. It is a $20 donation per person. 100% of the donations are benefitting the homeless pets at HHS.
URL:https://heritagehumane.org/event/jan-cat-yoga/
LOCATION:Heritage Humane Society
CATEGORIES:Classroom,Fundraiser
ATTACH;FMTTYPE=image/jpeg:https://heritagehumane.org/wp-content/uploads/2023/10/IMG_20230318_091908932_2.jpg
END:VEVENT
BEGIN:VEVENT
DTSTART;TZID=America/New_York:20240127T083000
DTEND;TZID=America/New_York:20240127T093000
DTSTAMP:20260422T182717
CREATED:20240104T180828Z
LAST-MODIFIED:20240104T180828Z
UID:52836-1706344200-1706347800@heritagehumane.org
SUMMARY:Charity Yoga at Frothy Moon
DESCRIPTION:Join us at Frothy Moon Brewhouse on Saturday\, January 27 at 8:30 a.m. for an hour-long beginner-friendly gentle yoga practice with Jessica Ruff Yoga. It will be a donation-based yoga class to benefit the homeless pets at the shelter. This is a gentle yoga class accessible to yogis of all levels and beginner-friendly\, modifications will be offered to meet the needs of all personal practices. Just show up with your yoga mat and be ready to breathe\, move\, and have fun.\n100% of the donations are benefitting the homeless pets at HHS.
URL:https://heritagehumane.org/event/yoga-frothy-moon/
LOCATION:Frothy Moon Brewhouse\, 1826 Jamestown Rd.\, Williamsburg\, VA\, 23185\, United States
CATEGORIES:Classroom,Fundraiser
END:VEVENT
END:VCALENDAR