BEGIN:VCALENDAR
VERSION:2.0
PRODID:-//Heritage Humane - ECPv6.15.13//NONSGML v1.0//EN
CALSCALE:GREGORIAN
METHOD:PUBLISH
X-ORIGINAL-URL:https://heritagehumane.org
X-WR-CALDESC:Events for Heritage Humane
REFRESH-INTERVAL;VALUE=DURATION:PT1H
X-Robots-Tag:noindex
X-PUBLISHED-TTL:PT1H
BEGIN:VTIMEZONE
TZID:America/New_York
BEGIN:DAYLIGHT
TZOFFSETFROM:-0500
TZOFFSETTO:-0400
TZNAME:EDT
DTSTART:20230312T070000
END:DAYLIGHT
BEGIN:STANDARD
TZOFFSETFROM:-0400
TZOFFSETTO:-0500
TZNAME:EST
DTSTART:20231105T060000
END:STANDARD
BEGIN:DAYLIGHT
TZOFFSETFROM:-0500
TZOFFSETTO:-0400
TZNAME:EDT
DTSTART:20240310T070000
END:DAYLIGHT
BEGIN:STANDARD
TZOFFSETFROM:-0400
TZOFFSETTO:-0500
TZNAME:EST
DTSTART:20241103T060000
END:STANDARD
BEGIN:DAYLIGHT
TZOFFSETFROM:-0500
TZOFFSETTO:-0400
TZNAME:EDT
DTSTART:20250309T070000
END:DAYLIGHT
BEGIN:STANDARD
TZOFFSETFROM:-0400
TZOFFSETTO:-0500
TZNAME:EST
DTSTART:20251102T060000
END:STANDARD
END:VTIMEZONE
BEGIN:VEVENT
DTSTART;TZID=America/New_York:20241012T083000
DTEND;TZID=America/New_York:20241012T093000
DTSTAMP:20260422T070409
CREATED:20240906T110011Z
LAST-MODIFIED:20241002T200743Z
UID:59910-1728721800-1728725400@heritagehumane.org
SUMMARY:Puppy Yoga
DESCRIPTION:Join us in The Heritage Humane Society’s classroom on Saturday\, October 12 at 8:30 a.m. and 10 a.m. for an hour-long beginner-friendly gentle yoga practice. It will be a donation-based yoga class to benefit the homeless pets at the shelter. This is a gentle yoga class accessible to yogis of all levels and beginner-friendly\, modifications will be offered to meet the needs of all personal practices. Join us with your yoga mat and be ready to breathe\, move\, have fun\, and meet some adorable\, adoptable DOGS!\nYou must pre-register online to secure your spot. It is a $20 donation per person. 100% of the donations are benefitting the homeless pets at HHS.
URL:https://heritagehumane.org/event/puppy-yoga-4/
LOCATION:Heritage Humane Society
CATEGORIES:Classroom,Fundraiser
ATTACH;FMTTYPE=image/jpeg:https://heritagehumane.org/wp-content/uploads/2023/10/IMG_20230318_091908932_2.jpg
END:VEVENT
BEGIN:VEVENT
DTSTART;TZID=America/New_York:20241019T173000
DTEND;TZID=America/New_York:20241019T203000
DTSTAMP:20260422T070409
CREATED:20240906T100354Z
LAST-MODIFIED:20240906T100354Z
UID:59895-1729359000-1729369800@heritagehumane.org
SUMMARY:October Kids Movie Night
DESCRIPTION:When:\nSaturday\, October 19  |  5:30 – 8:30 PM\nAbout the Event:\nSign your kid(s) up for our Kids Movie Night (kids only) on Saturday\, October 19 from 5:30 – 8:30 PM! We will be playing a kids’ movie in our HHS Classroom. It is $20 per kid and includes a pet-themed educational activity\, a movie\, popcorn\, and pizza. Kids will also get a chance to meet some adoptable pets from HHS. Open to all children ages 6 – 12 years old. Enjoy an evening out while your kid(s) enjoy a fun movie night with us! Pajamas are welcome\, but not required. We encourage the kids to bring their favorite blankets and pillow with them and a refillable water bottle.\n100% of the proceeds benefit the homeless pets at HHS. Spots are limited\, so sign up today!\nSign Up Online:\nTo reserve your kid’s spot\, register online. Registration is $20 per person. Includes a movie\, pizza\, popcorn\, and a pet-themed educational activity. Open to all children ages 6 – 12 years old.
URL:https://heritagehumane.org/event/oct-kids-movie-night-2024/
LOCATION:Heritage Humane Society
CATEGORIES:Classroom,Fundraiser
END:VEVENT
BEGIN:VEVENT
DTSTART;TZID=America/New_York:20241024T170000
DTEND;TZID=America/New_York:20241024T200000
DTSTAMP:20260422T070409
CREATED:20241010T160732Z
LAST-MODIFIED:20241010T160732Z
UID:61113-1729789200-1729800000@heritagehumane.org
SUMMARY:Spooky Sips
DESCRIPTION:
URL:https://heritagehumane.org/event/spooky-sips/
LOCATION:Craft 31\, 3701 Strawberry Plains Rd.\, Williamsburg\, 23188\, United States
CATEGORIES:Adoption,Event,Fundraiser
ORGANIZER;CN="Heritage Humane Society":MAILTO:info@heritagehumanesociety.org
END:VEVENT
END:VCALENDAR