BEGIN:VCALENDAR
VERSION:2.0
PRODID:-//Heritage Humane - ECPv6.15.13//NONSGML v1.0//EN
CALSCALE:GREGORIAN
METHOD:PUBLISH
X-ORIGINAL-URL:https://heritagehumane.org
X-WR-CALDESC:Events for Heritage Humane
REFRESH-INTERVAL;VALUE=DURATION:PT1H
X-Robots-Tag:noindex
X-PUBLISHED-TTL:PT1H
BEGIN:VTIMEZONE
TZID:America/New_York
BEGIN:DAYLIGHT
TZOFFSETFROM:-0500
TZOFFSETTO:-0400
TZNAME:EDT
DTSTART:20240310T070000
END:DAYLIGHT
BEGIN:STANDARD
TZOFFSETFROM:-0400
TZOFFSETTO:-0500
TZNAME:EST
DTSTART:20241103T060000
END:STANDARD
BEGIN:DAYLIGHT
TZOFFSETFROM:-0500
TZOFFSETTO:-0400
TZNAME:EDT
DTSTART:20250309T070000
END:DAYLIGHT
BEGIN:STANDARD
TZOFFSETFROM:-0400
TZOFFSETTO:-0500
TZNAME:EST
DTSTART:20251102T060000
END:STANDARD
BEGIN:DAYLIGHT
TZOFFSETFROM:-0500
TZOFFSETTO:-0400
TZNAME:EDT
DTSTART:20260308T070000
END:DAYLIGHT
BEGIN:STANDARD
TZOFFSETFROM:-0400
TZOFFSETTO:-0500
TZNAME:EST
DTSTART:20261101T060000
END:STANDARD
END:VTIMEZONE
BEGIN:VEVENT
DTSTART;TZID=America/New_York:20250620T170000
DTEND;TZID=America/New_York:20250620T200000
DTSTAMP:20260421T202552
CREATED:20250618T142242Z
LAST-MODIFIED:20250618T142242Z
UID:67662-1750438800-1750449600@heritagehumane.org
SUMMARY:Big Summer Luau at Craft 31
DESCRIPTION:Aloha\, summer! \nCraft 31 is welcoming the season island-style on Friday\, June 20th from 5 – 8 PM and you’re invited!\nSip & Celebrate: Order any 16oz Virginia Beer Co. beer on tap and take home a free pint glass (while supplies last)!\n\nGive Back & Win: Bring supplies to support The Heritage Humane Society and receive raffle tickets for the chance to win fun prizes! Every donation makes a difference! Click here to view our supply wish list. \n\nDress Code: Rock your best Hawaiian summer attire. Think Hawaiian shirts\, leis\, grass skirts – the louder\, the better!\n\nDogs Welcome: Well-behaved and leashed pups are welcome to join in on the fun – bonus points if your pup comes in costume too!\n\n Donations will be accepted all day on June 20th so swing by whenever you can – even if you can’t stay for the party! You’ll still be entered into the raffle!\n\nGreat beer\, good people\, furry friends and a chance to give back – what more could you ask for? See you at the luau!
URL:https://heritagehumane.org/event/big-summer-luau-at-craft-31/
LOCATION:Craft 31\, 3701 Strawberry Plains Rd.\, Williamsburg\, 23188\, United States
CATEGORIES:Event,Fundraiser
END:VEVENT
BEGIN:VEVENT
DTSTART;TZID=America/New_York:20250621T083000
DTEND;TZID=America/New_York:20250621T093000
DTSTAMP:20260421T202552
CREATED:20250509T194315Z
LAST-MODIFIED:20250519T201920Z
UID:66968-1750494600-1750498200@heritagehumane.org
SUMMARY:Kitten Yoga
DESCRIPTION:Join us in The Heritage Humane Society’s classroom on Saturday\, May 17 at 8:30 a.m. for an hour-long beginner-friendly gentle yoga practice. It will be a donation-based yoga class to benefit the homeless pets at the shelter. This is a gentle yoga class accessible to yogis of all levels and beginner-friendly\, modifications will be offered to meet the needs of all personal practices. Join us with your yoga mat and be ready to breathe\, move\, have fun\, and meet some adorable\, adoptable kittens!\nYou must pre-register online to secure your spot. It is a $20 donation per person. 100% of the donations benefit the homeless pets at HHS.\n \n 
URL:https://heritagehumane.org/event/kitten-yoga-5/
LOCATION:Heritage Humane Society
CATEGORIES:Classroom,Fundraiser
ATTACH;FMTTYPE=image/jpeg:https://heritagehumane.org/wp-content/uploads/2023/10/IMG_20230318_091908932_2.jpg
END:VEVENT
BEGIN:VEVENT
DTSTART;TZID=America/New_York:20250621T100000
DTEND;TZID=America/New_York:20250621T110000
DTSTAMP:20260421T202552
CREATED:20250609T160635Z
LAST-MODIFIED:20250609T160635Z
UID:67416-1750500000-1750503600@heritagehumane.org
SUMMARY:Puppy Yoga
DESCRIPTION:Join us in The Heritage Humane Society’s classroom on Saturday\, June 21 at 10:30 a.m. for an hour-long beginner-friendly gentle yoga practice. It will be a donation-based yoga class to benefit the homeless pets at the shelter. This is a gentle yoga class accessible to yogis of all levels and beginner-friendly\, modifications will be offered to meet the needs of all personal practices. Join us with your yoga mat and be ready to breathe\, move\, have fun\, and meet some adorable\, adoptable PUPPIES!\nYou must pre-register online to secure your spot. It is a $20 donation per person. 100% of the donations benefit the homeless pets at HHS.\n \n 
URL:https://heritagehumane.org/event/puppy-yoga-3/
LOCATION:Heritage Humane Society
CATEGORIES:Classroom,Fundraiser
ATTACH;FMTTYPE=image/jpeg:https://heritagehumane.org/wp-content/uploads/2023/10/IMG_20230318_091908932_2.jpg
END:VEVENT
BEGIN:VEVENT
DTSTART;TZID=America/New_York:20250621T173000
DTEND;TZID=America/New_York:20250621T203000
DTSTAMP:20260421T202552
CREATED:20250519T200020Z
LAST-MODIFIED:20250519T200020Z
UID:67077-1750527000-1750537800@heritagehumane.org
SUMMARY:June Kids' Movie Night
DESCRIPTION:When:\nSaturday\, June 21  |  5:30 – 8:30 PM\nAbout the Event:\nSign your kid(s) up for our Kids Movie Night (kids only) on Saturday\, June 21 from 5:30 – 8:30 PM! We will be playing a kids’ movie in our HHS Classroom. It is $20 per kid and includes a pet-themed educational activity\, a movie\, popcorn\, and pizza. Kids will also get a chance to meet some adoptable pets from HHS. Open to all children ages 6 – 12 years old. Enjoy an evening out while your kid(s) enjoy a fun movie night with us! Pajamas are welcome\, but not required. We encourage the kids to bring their favorite blankets and pillow with them and a refillable water bottle.\n100% of the proceeds benefit the homeless pets at HHS. Spots are limited\, so sign up today!\nSign Up Online:\nTo reserve your kid’s spot\, register online. Registration is $20 per person. Includes a movie\, pizza\, popcorn\, and a pet-themed educational activity. Open to all children ages 6 – 12 years old.
URL:https://heritagehumane.org/event/june-kids-movie-night-2025/
LOCATION:Heritage Humane Society
CATEGORIES:Classroom,Fundraiser
END:VEVENT
END:VCALENDAR