BEGIN:VCALENDAR
VERSION:2.0
PRODID:-//Heritage Humane - ECPv6.15.13//NONSGML v1.0//EN
CALSCALE:GREGORIAN
METHOD:PUBLISH
X-WR-CALNAME:Heritage Humane
X-ORIGINAL-URL:https://heritagehumane.org
X-WR-CALDESC:Events for Heritage Humane
REFRESH-INTERVAL;VALUE=DURATION:PT1H
X-Robots-Tag:noindex
X-PUBLISHED-TTL:PT1H
BEGIN:VTIMEZONE
TZID:America/New_York
BEGIN:DAYLIGHT
TZOFFSETFROM:-0500
TZOFFSETTO:-0400
TZNAME:EDT
DTSTART:20240310T070000
END:DAYLIGHT
BEGIN:STANDARD
TZOFFSETFROM:-0400
TZOFFSETTO:-0500
TZNAME:EST
DTSTART:20241103T060000
END:STANDARD
BEGIN:DAYLIGHT
TZOFFSETFROM:-0500
TZOFFSETTO:-0400
TZNAME:EDT
DTSTART:20250309T070000
END:DAYLIGHT
BEGIN:STANDARD
TZOFFSETFROM:-0400
TZOFFSETTO:-0500
TZNAME:EST
DTSTART:20251102T060000
END:STANDARD
BEGIN:DAYLIGHT
TZOFFSETFROM:-0500
TZOFFSETTO:-0400
TZNAME:EDT
DTSTART:20260308T070000
END:DAYLIGHT
BEGIN:STANDARD
TZOFFSETFROM:-0400
TZOFFSETTO:-0500
TZNAME:EST
DTSTART:20261101T060000
END:STANDARD
END:VTIMEZONE
BEGIN:VEVENT
DTSTART;TZID=America/New_York:20250809T173000
DTEND;TZID=America/New_York:20250809T200000
DTSTAMP:20260421T175314
CREATED:20250623T150132Z
LAST-MODIFIED:20250623T150132Z
UID:67780-1754760600-1754769600@heritagehumane.org
SUMMARY:August Kids' Movie Night
DESCRIPTION:When:\nSaturday\, August 9  |  5:30 – 8:00 PM\nAbout the Event:\nSign your kid(s) up for our Kids Movie Night (kids only) on Saturday\, August 9 from 5:30 – 8:00 PM! We will be playing a kids’ movie in our HHS Classroom. It is $20 per kid and includes a pet-themed educational activity\, a movie\, popcorn\, and pizza. Kids will also get a chance to meet some adoptable pets from HHS. Open to all children ages 6 – 12 years old. Enjoy an evening out while your kid(s) enjoy a fun movie night with us! Pajamas are welcome\, but not required. We encourage the kids to bring their favorite blankets and pillow with them and a refillable water bottle.\n100% of the proceeds benefit the homeless pets at HHS. Spots are limited\, so sign up today!\nSign Up Online:\nTo reserve your kid’s spot\, register online. Registration is $20 per person. Includes a movie\, pizza\, popcorn\, and a pet-themed educational activity. Open to all children ages 6 – 12 years old.
URL:https://heritagehumane.org/event/aug-kids-movie-night/
LOCATION:Heritage Humane Society
CATEGORIES:Classroom,Fundraiser
END:VEVENT
BEGIN:VEVENT
DTSTART;TZID=America/New_York:20250816T083000
DTEND;TZID=America/New_York:20250816T093000
DTSTAMP:20260421T175314
CREATED:20250519T203314Z
LAST-MODIFIED:20250519T203314Z
UID:67088-1755333000-1755336600@heritagehumane.org
SUMMARY:Dog Yoga
DESCRIPTION:Join us in The Heritage Humane Society’s classroom on Saturday\, August 16 at 8:30 a.m. for an hour-long beginner-friendly gentle yoga practice. It will be a donation-based yoga class to benefit the homeless pets at the shelter. This is a gentle yoga class accessible to yogis of all levels and beginner-friendly\, modifications will be offered to meet the needs of all personal practices. Join us with your yoga mat and be ready to breathe\, move\, have fun\, and meet some adorable\, adoptable DOGS!\nYou must pre-register online to secure your spot. It is a $20 donation per person. 100% of the donations are benefitting the homeless pets at HHS.
URL:https://heritagehumane.org/event/dog-yoga-5/
LOCATION:Heritage Humane Society
CATEGORIES:Classroom,Fundraiser
ATTACH;FMTTYPE=image/jpeg:https://heritagehumane.org/wp-content/uploads/2023/10/IMG_20230318_091908932_2.jpg
END:VEVENT
BEGIN:VEVENT
DTSTART;TZID=America/New_York:20250816T180000
DTEND;TZID=America/New_York:20250816T210000
DTSTAMP:20260421T175314
CREATED:20250226T151755Z
LAST-MODIFIED:20250226T151823Z
UID:65344-1755367200-1755378000@heritagehumane.org
SUMMARY:Paws in the Air
DESCRIPTION:About:\nThe annual Paws in the Air event is on Saturday\, Aug. 16\, 2025 from 6 – 9 PM. It will be held at Legacy Hall in New Town Williamsburg. The event will feature food\, beer\, wine\, raffles\, live music\, community vendors\, and more! Don’t miss this opportunity to make a difference in homeless pets’ lives and have a great time doing it. We hope to see you there.\nAll proceeds from the event support our McDuff Endowment Fund at The Heritage Humane Society.\n  \nMcDuff Endowment Fund:\nThe McDuff Endowment Fund is a restricted fund that provides a safety net for the medical needs of homeless pets at The Heritage Humane Society. By making a gift to the McDuff Fund\, you’re ensuring that the lifesaving mission of Greater Williamsburg’s largest shelter continues for many years to come. \nUnable to attend the event? You can still help leave a lasting legacy by making a tax-deductible donation to the McDuff Fund today.\n\n\n\n\nLearn More
URL:https://heritagehumane.org/event/paws-in-the-air-2025/
LOCATION:Legacy Hall\, 4301 New Town Ave.\, Williamsburg\, VA\, 23188\, United States
CATEGORIES:Charity,Event,Fundraiser
ORGANIZER;CN="Heritage Humane Society":MAILTO:info@heritagehumanesociety.org
END:VEVENT
END:VCALENDAR