BEGIN:VCALENDAR
VERSION:2.0
PRODID:-//Heritage Humane - ECPv6.15.13//NONSGML v1.0//EN
CALSCALE:GREGORIAN
METHOD:PUBLISH
X-WR-CALNAME:Heritage Humane
X-ORIGINAL-URL:https://heritagehumane.org
X-WR-CALDESC:Events for Heritage Humane
REFRESH-INTERVAL;VALUE=DURATION:PT1H
X-Robots-Tag:noindex
X-PUBLISHED-TTL:PT1H
BEGIN:VTIMEZONE
TZID:America/New_York
BEGIN:DAYLIGHT
TZOFFSETFROM:-0500
TZOFFSETTO:-0400
TZNAME:EDT
DTSTART:20240310T070000
END:DAYLIGHT
BEGIN:STANDARD
TZOFFSETFROM:-0400
TZOFFSETTO:-0500
TZNAME:EST
DTSTART:20241103T060000
END:STANDARD
BEGIN:DAYLIGHT
TZOFFSETFROM:-0500
TZOFFSETTO:-0400
TZNAME:EDT
DTSTART:20250309T070000
END:DAYLIGHT
BEGIN:STANDARD
TZOFFSETFROM:-0400
TZOFFSETTO:-0500
TZNAME:EST
DTSTART:20251102T060000
END:STANDARD
BEGIN:DAYLIGHT
TZOFFSETFROM:-0500
TZOFFSETTO:-0400
TZNAME:EDT
DTSTART:20260308T070000
END:DAYLIGHT
BEGIN:STANDARD
TZOFFSETFROM:-0400
TZOFFSETTO:-0500
TZNAME:EST
DTSTART:20261101T060000
END:STANDARD
END:VTIMEZONE
BEGIN:VEVENT
DTSTART;TZID=America/New_York:20250104T140000
DTEND;TZID=America/New_York:20250104T180000
DTSTAMP:20260422T041857
CREATED:20241212T203808Z
LAST-MODIFIED:20241212T203808Z
UID:62970-1735999200-1736013600@heritagehumane.org
SUMMARY:Vision Board Workshop
DESCRIPTION:When:\nSaturday\, January 4  |  2 – 6 PM\nAbout the Event:\nStart 2025 the right way! A key part of welcoming the new year is making resolutions and creating opportunities to reset. This workshop is all about setting intentions\, visualizing your goals\, and creating a powerful vision board that will inspire and motivate you throughout the year. The Vision Board Workshop will be on Saturday\, January 4 from 2 – 5 PM in the HHS classroom. It’s $45 per person. All supplies will be provided as well as light refreshments. You must be 18 years or older to attend.\nProceeds benefit the homeless pets at HHS. Spots are limited\, so sign up today!\nSign Up Online:\nTo reserve your spot\, register online. Registration is $45 per person. 
URL:https://heritagehumane.org/event/vision-board-workshop-2025/
LOCATION:Heritage Humane Society
CATEGORIES:Classroom,Fundraiser
END:VEVENT
END:VCALENDAR