BEGIN:VCALENDAR
VERSION:2.0
PRODID:-//Heritage Humane - ECPv6.15.13//NONSGML v1.0//EN
CALSCALE:GREGORIAN
METHOD:PUBLISH
X-ORIGINAL-URL:https://heritagehumane.org
X-WR-CALDESC:Events for Heritage Humane
REFRESH-INTERVAL;VALUE=DURATION:PT1H
X-Robots-Tag:noindex
X-PUBLISHED-TTL:PT1H
BEGIN:VTIMEZONE
TZID:America/New_York
BEGIN:DAYLIGHT
TZOFFSETFROM:-0500
TZOFFSETTO:-0400
TZNAME:EDT
DTSTART:20240310T070000
END:DAYLIGHT
BEGIN:STANDARD
TZOFFSETFROM:-0400
TZOFFSETTO:-0500
TZNAME:EST
DTSTART:20241103T060000
END:STANDARD
BEGIN:DAYLIGHT
TZOFFSETFROM:-0500
TZOFFSETTO:-0400
TZNAME:EDT
DTSTART:20250309T070000
END:DAYLIGHT
BEGIN:STANDARD
TZOFFSETFROM:-0400
TZOFFSETTO:-0500
TZNAME:EST
DTSTART:20251102T060000
END:STANDARD
BEGIN:DAYLIGHT
TZOFFSETFROM:-0500
TZOFFSETTO:-0400
TZNAME:EDT
DTSTART:20260308T070000
END:DAYLIGHT
BEGIN:STANDARD
TZOFFSETFROM:-0400
TZOFFSETTO:-0500
TZNAME:EST
DTSTART:20261101T060000
END:STANDARD
END:VTIMEZONE
BEGIN:VEVENT
DTSTART;TZID=America/New_York:20250719T083000
DTEND;TZID=America/New_York:20250719T093000
DTSTAMP:20260421T202859
CREATED:20250519T201957Z
LAST-MODIFIED:20250519T201957Z
UID:67083-1752913800-1752917400@heritagehumane.org
SUMMARY:Kitten Yoga
DESCRIPTION:Join us in The Heritage Humane Society’s classroom on Saturday\, May 17 at 8:30 a.m. for an hour-long beginner-friendly gentle yoga practice. It will be a donation-based yoga class to benefit the homeless pets at the shelter. This is a gentle yoga class accessible to yogis of all levels and beginner-friendly\, modifications will be offered to meet the needs of all personal practices. Join us with your yoga mat and be ready to breathe\, move\, have fun\, and meet some adorable\, adoptable kittens!\nYou must pre-register online to secure your spot. It is a $20 donation per person. 100% of the donations benefit the homeless pets at HHS.\n \n 
URL:https://heritagehumane.org/event/kitten-yoga-6/
LOCATION:Heritage Humane Society
CATEGORIES:Classroom,Fundraiser
ATTACH;FMTTYPE=image/jpeg:https://heritagehumane.org/wp-content/uploads/2023/10/IMG_20230318_091908932_2.jpg
END:VEVENT
END:VCALENDAR