BEGIN:VCALENDAR
VERSION:2.0
PRODID:-//Heritage Humane - ECPv6.15.13//NONSGML v1.0//EN
CALSCALE:GREGORIAN
METHOD:PUBLISH
X-WR-CALNAME:Heritage Humane
X-ORIGINAL-URL:https://heritagehumane.org
X-WR-CALDESC:Events for Heritage Humane
REFRESH-INTERVAL;VALUE=DURATION:PT1H
X-Robots-Tag:noindex
X-PUBLISHED-TTL:PT1H
BEGIN:VTIMEZONE
TZID:America/New_York
BEGIN:DAYLIGHT
TZOFFSETFROM:-0500
TZOFFSETTO:-0400
TZNAME:EDT
DTSTART:20250309T070000
END:DAYLIGHT
BEGIN:STANDARD
TZOFFSETFROM:-0400
TZOFFSETTO:-0500
TZNAME:EST
DTSTART:20251102T060000
END:STANDARD
BEGIN:DAYLIGHT
TZOFFSETFROM:-0500
TZOFFSETTO:-0400
TZNAME:EDT
DTSTART:20260308T070000
END:DAYLIGHT
BEGIN:STANDARD
TZOFFSETFROM:-0400
TZOFFSETTO:-0500
TZNAME:EST
DTSTART:20261101T060000
END:STANDARD
BEGIN:DAYLIGHT
TZOFFSETFROM:-0500
TZOFFSETTO:-0400
TZNAME:EDT
DTSTART:20270314T070000
END:DAYLIGHT
BEGIN:STANDARD
TZOFFSETFROM:-0400
TZOFFSETTO:-0500
TZNAME:EST
DTSTART:20271107T060000
END:STANDARD
END:VTIMEZONE
BEGIN:VEVENT
DTSTART;TZID=America/New_York:20260126T090000
DTEND;TZID=America/New_York:20260126T150000
DTSTAMP:20260425T163523
CREATED:20260102T185017Z
LAST-MODIFIED:20260106T144454Z
UID:96743-1769418000-1769439600@heritagehumane.org
SUMMARY:Kids' Day Out
DESCRIPTION:Kids ages 6-10 are invited to join us at The Heritage Humane Society for a unique\, behind-the-scenes\, single-day animal camp! Leave the school work at home and come in to the shelter for a fun-filled day of crafts\, activities\, and lots of pet snuggles. Snacks\, pizza\, and adorable pets provided. \nRegistration is $75 per camper. Space is limited!  Register online now!
URL:https://heritagehumane.org/event/kids-day-out/
CATEGORIES:Classroom,Humane Education
ATTACH;FMTTYPE=image/jpeg:https://heritagehumane.org/wp-content/uploads/2025/12/4.jpg
END:VEVENT
END:VCALENDAR