BEGIN:VCALENDAR
VERSION:2.0
PRODID:-//Heritage Humane - ECPv6.15.13//NONSGML v1.0//EN
CALSCALE:GREGORIAN
METHOD:PUBLISH
X-ORIGINAL-URL:https://heritagehumane.org
X-WR-CALDESC:Events for Heritage Humane
REFRESH-INTERVAL;VALUE=DURATION:PT1H
X-Robots-Tag:noindex
X-PUBLISHED-TTL:PT1H
BEGIN:VTIMEZONE
TZID:America/New_York
BEGIN:DAYLIGHT
TZOFFSETFROM:-0500
TZOFFSETTO:-0400
TZNAME:EDT
DTSTART:20210314T070000
END:DAYLIGHT
BEGIN:STANDARD
TZOFFSETFROM:-0400
TZOFFSETTO:-0500
TZNAME:EST
DTSTART:20211107T060000
END:STANDARD
BEGIN:DAYLIGHT
TZOFFSETFROM:-0500
TZOFFSETTO:-0400
TZNAME:EDT
DTSTART:20220313T070000
END:DAYLIGHT
BEGIN:STANDARD
TZOFFSETFROM:-0400
TZOFFSETTO:-0500
TZNAME:EST
DTSTART:20221106T060000
END:STANDARD
BEGIN:DAYLIGHT
TZOFFSETFROM:-0500
TZOFFSETTO:-0400
TZNAME:EDT
DTSTART:20230312T070000
END:DAYLIGHT
BEGIN:STANDARD
TZOFFSETFROM:-0400
TZOFFSETTO:-0500
TZNAME:EST
DTSTART:20231105T060000
END:STANDARD
END:VTIMEZONE
BEGIN:VEVENT
DTSTART;TZID=America/New_York:20221001T120000
DTEND;TZID=America/New_York:20221001T163000
DTSTAMP:20260421T011313
CREATED:20220928T152716Z
LAST-MODIFIED:20220928T191915Z
UID:40934-1664625600-1664641800@heritagehumane.org
SUMMARY:Halloween Pet Costume Sale
DESCRIPTION:Come by the Heritage Humane Society classroom on Saturday\, October 1 from 12pm – 4:30 p.m. for a spooktacular Halloween Costume Sale! We will have a variety of pet costumes available for purchase.\nYou can bring in supply donations from our wish list OR make a monetary donation.\nOur supply wish list can be found here: heritagehumane.org/wish-lists. We are most in need of soft dog treats and canned kitten/cat food.\nHeritage Humane Society is located at 430 Waller Mill Rd.\, Williamsburg\, VA 23185.
URL:https://heritagehumane.org/event/halloween-pet-costume-sale/
LOCATION:Heritage Humane Society
CATEGORIES:Charity,Fundraiser,Supply Drive
ORGANIZER;CN="Heritage Humane Society":MAILTO:info@heritagehumanesociety.org
END:VEVENT
END:VCALENDAR