BEGIN:VCALENDAR
VERSION:2.0
PRODID:-//Heritage Humane - ECPv6.15.13//NONSGML v1.0//EN
CALSCALE:GREGORIAN
METHOD:PUBLISH
X-WR-CALNAME:Heritage Humane
X-ORIGINAL-URL:https://heritagehumane.org
X-WR-CALDESC:Events for Heritage Humane
REFRESH-INTERVAL;VALUE=DURATION:PT1H
X-Robots-Tag:noindex
X-PUBLISHED-TTL:PT1H
BEGIN:VTIMEZONE
TZID:America/New_York
BEGIN:DAYLIGHT
TZOFFSETFROM:-0500
TZOFFSETTO:-0400
TZNAME:EDT
DTSTART:20170312T070000
END:DAYLIGHT
BEGIN:STANDARD
TZOFFSETFROM:-0400
TZOFFSETTO:-0500
TZNAME:EST
DTSTART:20171105T060000
END:STANDARD
BEGIN:DAYLIGHT
TZOFFSETFROM:-0500
TZOFFSETTO:-0400
TZNAME:EDT
DTSTART:20180311T070000
END:DAYLIGHT
BEGIN:STANDARD
TZOFFSETFROM:-0400
TZOFFSETTO:-0500
TZNAME:EST
DTSTART:20181104T060000
END:STANDARD
BEGIN:DAYLIGHT
TZOFFSETFROM:-0500
TZOFFSETTO:-0400
TZNAME:EDT
DTSTART:20190310T070000
END:DAYLIGHT
BEGIN:STANDARD
TZOFFSETFROM:-0400
TZOFFSETTO:-0500
TZNAME:EST
DTSTART:20191103T060000
END:STANDARD
END:VTIMEZONE
BEGIN:VEVENT
DTSTART;TZID=America/New_York:20180501T090000
DTEND;TZID=America/New_York:20180501T093000
DTSTAMP:20260423T085628
CREATED:20180425T183716Z
LAST-MODIFIED:20180425T183731Z
UID:4807-1525165200-1525167000@heritagehumane.org
SUMMARY:Paws for Pets - WMBG Radio
DESCRIPTION:Please join us by listening to WMBG FM 97.7 & AM 740 from 9:15 am till 9:45 am for our Pet of the Week.
URL:https://heritagehumane.org/event/paws-for-pets-wmbg-radio/
LOCATION:WMBG Radio\, 1005 Richmond Rd\, Williamsburg\, VA\, 23185\, United States
CATEGORIES:Adoption
ATTACH;FMTTYPE=image/jpeg:https://heritagehumane.org/wp-content/uploads/2018/04/Bishop-scaled.jpg
END:VEVENT
BEGIN:VEVENT
DTSTART;TZID=America/New_York:20180508T090000
DTEND;TZID=America/New_York:20180508T213000
DTSTAMP:20260423T085628
CREATED:20180425T183829Z
LAST-MODIFIED:20180425T183852Z
UID:4811-1525770000-1525815000@heritagehumane.org
SUMMARY:Paws for Pets - WMBG Radio
DESCRIPTION:Please join us by listening to WMBG FM 97.7 & AM 740 from 9:15 am till 9:45 am for our Pet of the Week.
URL:https://heritagehumane.org/event/paws-for-pets-wmbg-radio-2/
LOCATION:WMBG Radio\, 1005 Richmond Rd\, Williamsburg\, VA\, 23185\, United States
CATEGORIES:Adoption
ATTACH;FMTTYPE=image/jpeg:https://heritagehumane.org/wp-content/uploads/2018/04/Bishop-scaled.jpg
END:VEVENT
BEGIN:VEVENT
DTSTART;TZID=America/New_York:20180509T101500
DTEND;TZID=America/New_York:20180509T111500
DTSTAMP:20260423T085628
CREATED:20180425T185807Z
LAST-MODIFIED:20180514T235607Z
UID:4832-1525860900-1525864500@heritagehumane.org
SUMMARY:Auxiliary Meeting
DESCRIPTION:The Heritage Humane Society Auxiliary (HHSA) has been a vital part of the Heritage Humane Society (HHS) for over 20 years. As a standing committee of the HHS\, we continually seek to develop and present numerous and varied fundraising events to support the shelter while creating community awareness and education about all HHS services. \nOur members willingly donate their time\, energy and other resources in response to the needs of HHS and its commitment to humane care and professional treatment for all injured\, ill\, stray or unwanted animals. We offer a social structure where members work together on fundraising projects\, network and have fun through events and informal gatherings. \nHHSA members meet at the Williamsburg Library at 10:15 a.m. the second Wednesday of each month. We welcome anyone interested in learning more about HHSA to attend our monthly meeting or\, for more information\, please call (757) 221-0150 or email auxiliary@heritagehumanesociety.org. We sponsor numerous fundraising events every year raising more than $100\,000 with all proceeds helping fund operating expenses of the HHS Shelter caring for homeless pets.
URL:https://heritagehumane.org/event/auxiliary-meeting/
LOCATION:Williamsburg Library\, 515 Scotland Street\, Williamsburg\, VA\, 23185\, United States
CATEGORIES:Auxiliary
END:VEVENT
BEGIN:VEVENT
DTSTART;TZID=America/New_York:20180515T090000
DTEND;TZID=America/New_York:20180515T093000
DTSTAMP:20260423T085628
CREATED:20180425T184417Z
LAST-MODIFIED:20180514T235624Z
UID:4818-1526374800-1526376600@heritagehumane.org
SUMMARY:Paws for Pet - WMBG Radio
DESCRIPTION:Please join us by listening to WMBG FM 97.7 & AM 740 from 9:15 am till 9:45 am for our Pet of the Week.
URL:https://heritagehumane.org/event/paws-for-pet-wmbg-radio/
LOCATION:WMBG Radio\, 1005 Richmond Rd\, Williamsburg\, VA\, 23185\, United States
CATEGORIES:Adoption
ATTACH;FMTTYPE=image/jpeg:https://heritagehumane.org/wp-content/uploads/2018/04/Bishop-scaled.jpg
END:VEVENT
BEGIN:VEVENT
DTSTART;TZID=America/New_York:20180522T090000
DTEND;TZID=America/New_York:20180522T093000
DTSTAMP:20260423T085628
CREATED:20180425T184510Z
LAST-MODIFIED:20180514T235551Z
UID:4820-1526979600-1526981400@heritagehumane.org
SUMMARY:Paws for Pets - WMBG Radio
DESCRIPTION:Please join us by listening to WMBG FM 97.7 & AM 740 from 9:15 am till 9:45 am for our Pet of the Week.
URL:https://heritagehumane.org/event/paws-for-pets-wmbg-radio-4/
LOCATION:WMBG Radio\, 1005 Richmond Rd\, Williamsburg\, VA\, 23185\, United States
CATEGORIES:Adoption
ATTACH;FMTTYPE=image/jpeg:https://heritagehumane.org/wp-content/uploads/2018/04/Bishop-scaled.jpg
END:VEVENT
BEGIN:VEVENT
DTSTART;TZID=America/New_York:20180529T090000
DTEND;TZID=America/New_York:20180529T093000
DTSTAMP:20260423T085628
CREATED:20180425T184706Z
LAST-MODIFIED:20180514T235531Z
UID:4822-1527584400-1527586200@heritagehumane.org
SUMMARY:Paws for Pets - WMBG Radio
DESCRIPTION:Please join us by listening to WMBG FM 97.7 & AM 740 from 9:15 am till 9:45 am for our Pet of the Week.
URL:https://heritagehumane.org/event/paws-for-pets-wmbg-radio-5/
CATEGORIES:Adoption
ATTACH;FMTTYPE=image/jpeg:https://heritagehumane.org/wp-content/uploads/2018/04/Bishop-scaled.jpg
END:VEVENT
END:VCALENDAR