BEGIN:VCALENDAR
VERSION:2.0
PRODID:-//Heritage Humane - ECPv6.15.13//NONSGML v1.0//EN
CALSCALE:GREGORIAN
METHOD:PUBLISH
X-WR-CALNAME:Heritage Humane
X-ORIGINAL-URL:https://heritagehumane.org
X-WR-CALDESC:Events for Heritage Humane
REFRESH-INTERVAL;VALUE=DURATION:PT1H
X-Robots-Tag:noindex
X-PUBLISHED-TTL:PT1H
BEGIN:VTIMEZONE
TZID:America/New_York
BEGIN:DAYLIGHT
TZOFFSETFROM:-0500
TZOFFSETTO:-0400
TZNAME:EDT
DTSTART:20170312T070000
END:DAYLIGHT
BEGIN:STANDARD
TZOFFSETFROM:-0400
TZOFFSETTO:-0500
TZNAME:EST
DTSTART:20171105T060000
END:STANDARD
BEGIN:DAYLIGHT
TZOFFSETFROM:-0500
TZOFFSETTO:-0400
TZNAME:EDT
DTSTART:20180311T070000
END:DAYLIGHT
BEGIN:STANDARD
TZOFFSETFROM:-0400
TZOFFSETTO:-0500
TZNAME:EST
DTSTART:20181104T060000
END:STANDARD
BEGIN:DAYLIGHT
TZOFFSETFROM:-0500
TZOFFSETTO:-0400
TZNAME:EDT
DTSTART:20190310T070000
END:DAYLIGHT
BEGIN:STANDARD
TZOFFSETFROM:-0400
TZOFFSETTO:-0500
TZNAME:EST
DTSTART:20191103T060000
END:STANDARD
END:VTIMEZONE
BEGIN:VEVENT
DTSTART;TZID=America/New_York:20180602T090000
DTEND;TZID=America/New_York:20180602T110000
DTSTAMP:20260423T074434
CREATED:20180426T150638Z
LAST-MODIFIED:20180514T210652Z
UID:4935-1527930000-1527937200@heritagehumane.org
SUMMARY:Tails on the Trail
DESCRIPTION:*FREE* Are you up for a trail adventure with your dog? Join us in partnership with James City County Parks and Recreation for a self-guided adventure which starts off at one of the eight trails open for your exploration throughout the summer. June 2nd is National Trails Day so celebrate by getting active with your pet!
URL:https://heritagehumane.org/event/tails-on-the-trail/
CATEGORIES:Adoption
ORGANIZER;CN="Heritage Humane Society":MAILTO:info@heritagehumanesociety.org
END:VEVENT
BEGIN:VEVENT
DTSTART;TZID=America/New_York:20180605T090000
DTEND;TZID=America/New_York:20180605T093000
DTSTAMP:20260423T074434
CREATED:20180425T184812Z
LAST-MODIFIED:20180514T235517Z
UID:4824-1528189200-1528191000@heritagehumane.org
SUMMARY:Paws for Pets - WMBG Radio
DESCRIPTION:Please join us by listening to WMBG FM 97.7 & AM 740 from 9:15 am till 9:45 am for our Pet of the Week.
URL:https://heritagehumane.org/event/paws-for-pets-wmbg-radio-6/
CATEGORIES:Adoption
ATTACH;FMTTYPE=image/jpeg:https://heritagehumane.org/wp-content/uploads/2018/04/Bishop-scaled.jpg
END:VEVENT
BEGIN:VEVENT
DTSTART;TZID=America/New_York:20180612T090000
DTEND;TZID=America/New_York:20180612T091500
DTSTAMP:20260423T074434
CREATED:20180425T190533Z
LAST-MODIFIED:20180514T235459Z
UID:4840-1528794000-1528794900@heritagehumane.org
SUMMARY:Paws for Pets - WMBG Radio
DESCRIPTION:Please join us by listening to WMBG FM 97.7 & AM 740 from 9:15 am till 9:45 am for our Pet of the Week.
URL:https://heritagehumane.org/event/4840/
LOCATION:WMBG Radio\, 1005 Richmond Rd\, Williamsburg\, VA\, 23185\, United States
CATEGORIES:Adoption
ATTACH;FMTTYPE=image/jpeg:https://heritagehumane.org/wp-content/uploads/2018/04/Bishop-scaled.jpg
END:VEVENT
BEGIN:VEVENT
DTSTART;TZID=America/New_York:20180613T101500
DTEND;TZID=America/New_York:20180613T231500
DTSTAMP:20260423T074434
CREATED:20180425T185915Z
LAST-MODIFIED:20180514T235439Z
UID:4835-1528884900-1528931700@heritagehumane.org
SUMMARY:Auxiliary Meeting
DESCRIPTION:The Heritage Humane Society Auxiliary (HHSA) has been a vital part of the Heritage Humane Society (HHS) for over 20 years. As a standing committee of the HHS\, we continually seek to develop and present numerous and varied fundraising events to support the shelter while creating community awareness and education about all HHS services. \nOur members willingly donate their time\, energy and other resources in response to the needs of HHS and its commitment to humane care and professional treatment for all injured\, ill\, stray or unwanted animals. We offer a social structure where members work together on fundraising projects\, network and have fun through events and informal gatherings. \nHHSA members meet at the Williamsburg Library at 10:15 a.m. the second Wednesday of each month. We welcome anyone interested in learning more about HHSA to attend our monthly meeting or\, for more information\, please call (757) 221-0150 or email auxiliary@heritagehumanesociety.org. We sponsor numerous fundraising events every year raising more than $100\,000 with all proceeds helping fund operating expenses of the HHS Shelter caring for homeless pets.
URL:https://heritagehumane.org/event/4835/
LOCATION:Williamsburg Library\, 515 Scotland Street\, Williamsburg\, VA\, 23185\, United States
CATEGORIES:Auxiliary
END:VEVENT
BEGIN:VEVENT
DTSTART;TZID=America/New_York:20180614T073000
DTEND;TZID=America/New_York:20180614T150000
DTSTAMP:20260423T074434
CREATED:20180426T151334Z
LAST-MODIFIED:20180514T210606Z
UID:4942-1528961400-1528988400@heritagehumane.org
SUMMARY:Neuter Scooter
DESCRIPTION:Heritage Humane Society is excited to partner with Neuter Scooter and Virginia Beach SPCA to provide low cost spay/neuter services to our community. There is also a walk-up vaccine clinic from 11 a.m. – 12p.m. If you are in need of these services please call (757)221-0150 between the hours of 8 a.m. and 5 p.m. to make a reservation. \nThank you for helping us spread the word. Getting animals fixed us so important to the over-population issues in our area. Please call 221-0150 or email info@heritagehumanesociety.org to learn more. \nReservations are required for all surgery and space is limited\, call 757-221-0150. \nFor prices see http://vbspca.com/medical-clinic/neuter-scooter.
URL:https://heritagehumane.org/event/neuter-scooter/
CATEGORIES:Charity
ORGANIZER;CN="Heritage Humane Society":MAILTO:info@heritagehumanesociety.org
END:VEVENT
BEGIN:VEVENT
DTSTART;TZID=America/New_York:20180619T090000
DTEND;TZID=America/New_York:20180619T093000
DTSTAMP:20260423T074434
CREATED:20180611T180300Z
LAST-MODIFIED:20180611T180419Z
UID:6344-1529398800-1529400600@heritagehumane.org
SUMMARY:Pause for Paws -WMBG Radio
DESCRIPTION:Please join us by listening to WMBG FM 97.7 & AM 740 from 9:15 am till 9:45 am for our Pet of the Week.
URL:https://heritagehumane.org/event/pause-for-paws-3/
LOCATION:WMBG Radio\, 1005 Richmond Rd\, Williamsburg\, VA\, 23185\, United States
CATEGORIES:Adoption
ATTACH;FMTTYPE=image/jpeg:https://heritagehumane.org/wp-content/uploads/2018/04/Bishop-scaled.jpg
ORGANIZER;CN="Heritage Humane Society":MAILTO:info@heritagehumanesociety.org
END:VEVENT
BEGIN:VEVENT
DTSTART;TZID=America/New_York:20180622T110000
DTEND;TZID=America/New_York:20180624T130000
DTSTAMP:20260423T074434
CREATED:20180621T201331Z
LAST-MODIFIED:20180621T202559Z
UID:6553-1529665200-1529845200@heritagehumane.org
SUMMARY:Heritage Humane Society at Plow & Hearth
DESCRIPTION:JOIN US! At Plow & Hearth in New Town\, Wiliamsburg \nJune 22nd-June 24th\, from 11:00AM-1:00PM \nWe’ll have an adoptable dog representative and a table with a wealth of information about the life-saving work of Heritage Humane Society! \nPLUS! Get 15% off your purchase when you bring in dog food\, blankets\, cat food\, treats\, toys and more for HHS (Offer does not apply to already discounted items\, Alegria\, Dansko\, or Ugg footwear. Cannot be combined with other offers.) \nHeritage Humane Society will have a table in front of their store with HHS information and we will have an adoptable dog out there each day. They are having a sidewalk sale that weekend\, so we will be outside of their store. \n 
URL:https://heritagehumane.org/event/heritage-humane-society-at-plow-hearth/
LOCATION:Plow and Hearth Williamsburg\, 5123 Main St\,\, Williamsburg\, VA 23188\, VA\, 23188\, United States
CATEGORIES:Charity
END:VEVENT
BEGIN:VEVENT
DTSTART;TZID=America/New_York:20180626T090000
DTEND;TZID=America/New_York:20180626T093000
DTSTAMP:20260423T074434
CREATED:20180425T185048Z
LAST-MODIFIED:20180609T182341Z
UID:4830-1530003600-1530005400@heritagehumane.org
SUMMARY:Paws for Pets  - WMBG Radio
DESCRIPTION:Please join us by listening to WMBG FM 97.7 & AM 740 from 9:15 am till 9:45 am for our Pet of the Week.
URL:https://heritagehumane.org/event/paws-for-pets-wmbg-radio-9/
LOCATION:WMBG Radio\, 1005 Richmond Rd\, Williamsburg\, VA\, 23185\, United States
ATTACH;FMTTYPE=image/jpeg:https://heritagehumane.org/wp-content/uploads/2018/04/Bishop-scaled.jpg
END:VEVENT
END:VCALENDAR