BEGIN:VCALENDAR
VERSION:2.0
PRODID:-//Heritage Humane - ECPv6.15.13//NONSGML v1.0//EN
CALSCALE:GREGORIAN
METHOD:PUBLISH
X-ORIGINAL-URL:https://heritagehumane.org
X-WR-CALDESC:Events for Heritage Humane
REFRESH-INTERVAL;VALUE=DURATION:PT1H
X-Robots-Tag:noindex
X-PUBLISHED-TTL:PT1H
BEGIN:VTIMEZONE
TZID:America/New_York
BEGIN:DAYLIGHT
TZOFFSETFROM:-0500
TZOFFSETTO:-0400
TZNAME:EDT
DTSTART:20170312T070000
END:DAYLIGHT
BEGIN:STANDARD
TZOFFSETFROM:-0400
TZOFFSETTO:-0500
TZNAME:EST
DTSTART:20171105T060000
END:STANDARD
BEGIN:DAYLIGHT
TZOFFSETFROM:-0500
TZOFFSETTO:-0400
TZNAME:EDT
DTSTART:20180311T070000
END:DAYLIGHT
BEGIN:STANDARD
TZOFFSETFROM:-0400
TZOFFSETTO:-0500
TZNAME:EST
DTSTART:20181104T060000
END:STANDARD
BEGIN:DAYLIGHT
TZOFFSETFROM:-0500
TZOFFSETTO:-0400
TZNAME:EDT
DTSTART:20190310T070000
END:DAYLIGHT
BEGIN:STANDARD
TZOFFSETFROM:-0400
TZOFFSETTO:-0500
TZNAME:EST
DTSTART:20191103T060000
END:STANDARD
END:VTIMEZONE
BEGIN:VEVENT
DTSTART;TZID=America/New_York:20180703T091500
DTEND;TZID=America/New_York:20180703T093000
DTSTAMP:20260423T062435
CREATED:20180425T185006Z
LAST-MODIFIED:20180611T175648Z
UID:4828-1530609300-1530610200@heritagehumane.org
SUMMARY:Paws for Pets - WMBG Radio
DESCRIPTION:Please join us by listening to WMBG FM 97.7 & AM 740 from 9:15 am till 9:45 am for our Pet of the Week.
URL:https://heritagehumane.org/event/paws-for-pets-wmbg-radio-8/
LOCATION:WMBG Radio\, 1005 Richmond Rd\, Williamsburg\, VA\, 23185\, United States
CATEGORIES:Adoption
ATTACH;FMTTYPE=image/jpeg:https://heritagehumane.org/wp-content/uploads/2018/04/Bishop-scaled.jpg
END:VEVENT
BEGIN:VEVENT
DTSTART;TZID=America/New_York:20180704T140000
DTEND;TZID=America/New_York:20180704T170000
DTSTAMP:20260423T062435
CREATED:20180628T212220Z
LAST-MODIFIED:20180702T172308Z
UID:6583-1530712800-1530723600@heritagehumane.org
SUMMARY:Hot Dogs for Shelter Dogs
DESCRIPTION:Join us for a hot dog eating contest supporting the homeless pets at Heritage Humane Society\, right here in Williamsburg\, Virginia! (Veggie dogs will also be offered).\n\nFor a $10 donation\, sign up to participate in the veggie dog eating contest. PRIZES y’all! \n\nAlso vote on who will win the veggie dog eating contest. Raffle prizes will be given out to the winners.\n\nAll donations will go to Heritage Humane Society. PLUS we will also have some adoptable dogs from the Adoption Center.
URL:https://heritagehumane.org/event/veggie-dogs-with-shelter-dogs/
LOCATION:Billsburg Brewery\, 2054 Jamestown Rd\, Williamsburg\, VA\, 23185\, United States
CATEGORIES:Charity
ORGANIZER;CN="The Hungry Pug Food Truck":MAILTO:hungrypugllc@gmail.com
END:VEVENT
BEGIN:VEVENT
DTSTART;TZID=America/New_York:20180710T090000
DTEND;TZID=America/New_York:20180710T093000
DTSTAMP:20260423T062435
CREATED:20180611T180117Z
LAST-MODIFIED:20180611T180333Z
UID:6342-1531213200-1531215000@heritagehumane.org
SUMMARY:Pause for Paws at WMBG Radio
DESCRIPTION:Please join us by listening to WMBG FM 97.7 & AM 740 from 9:15 am till 9:45 am for our Pet of the Week.
URL:https://heritagehumane.org/event/pause-for-paws-2/
LOCATION:WMBG Radio\, 1005 Richmond Rd\, Williamsburg\, VA\, 23185\, United States
CATEGORIES:Adoption
ATTACH;FMTTYPE=image/jpeg:https://heritagehumane.org/wp-content/uploads/2018/04/Bishop-scaled.jpg
ORGANIZER;CN="Heritage Humane Society":MAILTO:info@heritagehumanesociety.org
END:VEVENT
BEGIN:VEVENT
DTSTART;TZID=America/New_York:20180711T101500
DTEND;TZID=America/New_York:20180711T111500
DTSTAMP:20260423T062435
CREATED:20180425T190350Z
LAST-MODIFIED:20180514T210632Z
UID:4838-1531304100-1531307700@heritagehumane.org
SUMMARY:Auxiliary Meeting
DESCRIPTION:The Heritage Humane Society Auxiliary (HHSA) has been a vital part of the Heritage Humane Society (HHS) for over 20 years. As a standing committee of the HHS\, we continually seek to develop and present numerous and varied fundraising events to support the shelter while creating community awareness and education about all HHS services. \nOur members willingly donate their time\, energy and other resources in response to the needs of HHS and its commitment to humane care and professional treatment for all injured\, ill\, stray or unwanted animals. We offer a social structure where members work together on fundraising projects\, network and have fun through events and informal gatherings. \nHHSA members meet at the Williamsburg Library at 10:15 a.m. the second Wednesday of each month. We welcome anyone interested in learning more about HHSA to attend our monthly meeting or\, for more information\, please call (757) 221-0150 or email auxiliary@heritagehumanesociety.org. We sponsor numerous fundraising events every year raising more than $100\,000 with all proceeds helping fund operating expenses of the HHS Shelter caring for homeless pets.
URL:https://heritagehumane.org/event/auxiliary-meeting-2/
LOCATION:Williamsburg Library\, 515 Scotland Street\, Williamsburg\, VA\, 23185\, United States
CATEGORIES:Auxiliary
ORGANIZER;CN="Heritage Humane Society Auxiliary":MAILTO:auxiliary@heritagehumanesociety.org
END:VEVENT
BEGIN:VEVENT
DTSTART;TZID=America/New_York:20180712T080000
DTEND;TZID=America/New_York:20180712T170000
DTSTAMP:20260423T062435
CREATED:20180426T151520Z
LAST-MODIFIED:20180426T151520Z
UID:4949-1531382400-1531414800@heritagehumane.org
SUMMARY:Neuter Scooter
DESCRIPTION:Heritage Humane Society is excited to partner with Neuter Scooter and Virginia Beach SPCA to provide low cost spay/neuter services to our community. There is also a walk-up vaccine clinic from 11 a.m. – 12p.m. If you are in need of these services please call (757)221-0150 between the hours of 8 a.m. and 5 p.m. to make a reservation. \nThank you for helping us spread the word. Getting animals fixed us so important to the over-population issues in our area. Please call 221-0150 or email info@heritagehumanesociety.org to learn more. \nReservations are required for all surgery and space is limited\, call 757-221-0150. \nFor prices see http://vbspca.com/medical-clinic/neuter-scooter.
URL:https://heritagehumane.org/event/neuter-scooter-2/
LOCATION:Heritage Humane Society
ORGANIZER;CN="Heritage Humane Society":MAILTO:info@heritagehumanesociety.org
END:VEVENT
BEGIN:VEVENT
DTSTART;TZID=America/New_York:20180717T090000
DTEND;TZID=America/New_York:20180717T093000
DTSTAMP:20260423T062435
CREATED:20180611T180005Z
LAST-MODIFIED:20180611T180354Z
UID:6340-1531818000-1531819800@heritagehumane.org
SUMMARY:Pause for Paws at WMBG Radio
DESCRIPTION:Please join us by listening to WMBG FM 97.7 & AM 740 from 9:15 am till 9:45 am for our Pet of the Week.
URL:https://heritagehumane.org/event/pause-for-paws/
LOCATION:WMBG Radio\, 1005 Richmond Rd\, Williamsburg\, VA\, 23185\, United States
CATEGORIES:Adoption
ATTACH;FMTTYPE=image/jpeg:https://heritagehumane.org/wp-content/uploads/2018/04/Bishop-scaled.jpg
ORGANIZER;CN="Heritage Humane Society":MAILTO:info@heritagehumanesociety.org
END:VEVENT
BEGIN:VEVENT
DTSTART;TZID=America/New_York:20180724T090000
DTEND;TZID=America/New_York:20180724T093000
DTSTAMP:20260423T062435
CREATED:20180611T180527Z
LAST-MODIFIED:20180611T180533Z
UID:6349-1532422800-1532424600@heritagehumane.org
SUMMARY:Pause for Paws - WMBG Radio
DESCRIPTION:Please join us by listening to WMBG FM 97.7 & AM 740 from 9:15 am till 9:45 am for our Pet of the Week.
URL:https://heritagehumane.org/event/pause-for-paws-wmbg-radio/
LOCATION:WMBG Radio\, 1005 Richmond Rd\, Williamsburg\, VA\, 23185\, United States
CATEGORIES:Adoption
ATTACH;FMTTYPE=image/jpeg:https://heritagehumane.org/wp-content/uploads/2018/04/Bishop-scaled.jpg
ORGANIZER;CN="Heritage Humane Society":MAILTO:info@heritagehumanesociety.org
END:VEVENT
BEGIN:VEVENT
DTSTART;TZID=America/New_York:20180731T090000
DTEND;TZID=America/New_York:20180731T093000
DTSTAMP:20260423T062435
CREATED:20180611T180640Z
LAST-MODIFIED:20180611T180652Z
UID:6351-1533027600-1533029400@heritagehumane.org
SUMMARY:Pause for Paws - WMBG Radio
DESCRIPTION:Please join us by listening to WMBG FM 97.7 & AM 740 from 9:15 am till 9:45 am for our Pet of the Week.
URL:https://heritagehumane.org/event/pause-for-paws-wmbg-radio-2/
LOCATION:WMBG Radio\, 1005 Richmond Rd\, Williamsburg\, VA\, 23185\, United States
CATEGORIES:Adoption
ATTACH;FMTTYPE=image/jpeg:https://heritagehumane.org/wp-content/uploads/2018/04/Bishop-scaled.jpg
ORGANIZER;CN="Heritage Humane Society":MAILTO:info@heritagehumanesociety.org
END:VEVENT
END:VCALENDAR