BEGIN:VCALENDAR
VERSION:2.0
PRODID:-//Heritage Humane - ECPv6.15.13//NONSGML v1.0//EN
CALSCALE:GREGORIAN
METHOD:PUBLISH
X-WR-CALNAME:Heritage Humane
X-ORIGINAL-URL:https://heritagehumane.org
X-WR-CALDESC:Events for Heritage Humane
REFRESH-INTERVAL;VALUE=DURATION:PT1H
X-Robots-Tag:noindex
X-PUBLISHED-TTL:PT1H
BEGIN:VTIMEZONE
TZID:America/New_York
BEGIN:DAYLIGHT
TZOFFSETFROM:-0500
TZOFFSETTO:-0400
TZNAME:EDT
DTSTART:20180311T070000
END:DAYLIGHT
BEGIN:STANDARD
TZOFFSETFROM:-0400
TZOFFSETTO:-0500
TZNAME:EST
DTSTART:20181104T060000
END:STANDARD
BEGIN:DAYLIGHT
TZOFFSETFROM:-0500
TZOFFSETTO:-0400
TZNAME:EDT
DTSTART:20190310T070000
END:DAYLIGHT
BEGIN:STANDARD
TZOFFSETFROM:-0400
TZOFFSETTO:-0500
TZNAME:EST
DTSTART:20191103T060000
END:STANDARD
BEGIN:DAYLIGHT
TZOFFSETFROM:-0500
TZOFFSETTO:-0400
TZNAME:EDT
DTSTART:20200308T070000
END:DAYLIGHT
BEGIN:STANDARD
TZOFFSETFROM:-0400
TZOFFSETTO:-0500
TZNAME:EST
DTSTART:20201101T060000
END:STANDARD
END:VTIMEZONE
BEGIN:VEVENT
DTSTART;TZID=America/New_York:20190104T130000
DTEND;TZID=America/New_York:20190104T150000
DTSTAMP:20260422T224059
CREATED:20181206T200739Z
LAST-MODIFIED:20181206T200739Z
UID:7936-1546606800-1546614000@heritagehumane.org
SUMMARY:Chesapeake Bank Monthly Visit
DESCRIPTION:Interested in meeting one of our adoptable dogs? Come by Chesapeake Bank located at 1229 Lafayette Street\, Williamsburg\, VA 23185. A representative from Heritage Humane Society will be there from 1 p.m. – 3 p.m. with one of our lovable adoptable dogs!
URL:https://heritagehumane.org/event/chesapeake-bank-monthly-visit-2/
LOCATION:Chesapeake Bank\, 1229 Lafayette Street\, Williamsburg\, VA\, 23185\, United States
CATEGORIES:Adoption
ORGANIZER;CN="Heritage Humane Society":MAILTO:info@heritagehumanesociety.org
END:VEVENT
BEGIN:VEVENT
DTSTART;TZID=America/New_York:20190107T173000
DTEND;TZID=America/New_York:20190107T220000
DTSTAMP:20260422T224059
CREATED:20190112T190426Z
LAST-MODIFIED:20190112T190426Z
UID:8011-1546882200-1546898400@heritagehumane.org
SUMMARY:Williamsburg Charity Winter Golf Tournament
DESCRIPTION:Revolution Golf and Grill is hosting a Charity Winter Golf Tournament to benefit four local non-profit organizations: CASA\, Here for the Girls\, Literacy for Life\, and Heritage Humane Society. Please join us at Revolution Golf and Grille on Mondays in January starting at 5:30pm for raffles\, games\, golf\, and great food! \nNot a golfer? You can still come out and support us! Stop by Revolution Golf and Grille anytime in January and tell them you want to support the tournament and a percentage of your sales will go to the four non-profit organizations.
URL:https://heritagehumane.org/event/williamsburg-charity-winter-golf-tournament/
LOCATION:Revolution Golf and Grille\, 1430 High St Suite 706\, Williamsburg\, VA\, 23185\, United States
CATEGORIES:Charity
ORGANIZER;CN="Heritage Humane Society":MAILTO:info@heritagehumanesociety.org
END:VEVENT
BEGIN:VEVENT
DTSTART;TZID=America/New_York:20190108T090000
DTEND;TZID=America/New_York:20190108T093000
DTSTAMP:20260422T224059
CREATED:20181206T190438Z
LAST-MODIFIED:20181206T190438Z
UID:7907-1546938000-1546939800@heritagehumane.org
SUMMARY:Pause for Paws - WMBG Radio
DESCRIPTION:Please join us by listening to WMBG FM 97.7 & AM 740 from 9:15 am till 9:45 am for our Pet of the Week.
URL:https://heritagehumane.org/event/pause-for-paws-wmbg-radio-8/
LOCATION:WMBG Radio
CATEGORIES:Adoption
ATTACH;FMTTYPE=image/jpeg:https://heritagehumane.org/wp-content/uploads/2018/04/Bishop-scaled.jpg
ORGANIZER;CN="Heritage Humane Society":MAILTO:info@heritagehumanesociety.org
END:VEVENT
BEGIN:VEVENT
DTSTART;TZID=America/New_York:20190110T080000
DTEND;TZID=America/New_York:20190110T150000
DTSTAMP:20260422T224059
CREATED:20181220T152055Z
LAST-MODIFIED:20181220T152055Z
UID:7957-1547107200-1547132400@heritagehumane.org
SUMMARY:Neuter Scooter
DESCRIPTION:Heritage Humane Society is excited to partner with Neuter Scooter and Virginia Beach SPCA to provide low cost spay/neuter services to our community. There is also a walk-up vaccine clinic from 11 a.m. – 12p.m. If you are in need of these services please call (757)221-0150 between the hours of 8 a.m. and 5 p.m. to make a reservation. \nThank you for helping us spread the word. Getting animals fixed us so important to the over-population issues in our area. Please call 221-0150 or email info@heritagehumanesociety.org to learn more. \nReservations are required for all surgery and space is limited\, call 757-221-0150. \nFor prices see http://vbspca.com/medical-clinic/neuter-scoo
URL:https://heritagehumane.org/event/neuter-scooter-4/
LOCATION:Heritage Humane Society
CATEGORIES:Charity
ORGANIZER;CN="Heritage Humane Society":MAILTO:info@heritagehumanesociety.org
END:VEVENT
BEGIN:VEVENT
DTSTART;TZID=America/New_York:20190112T120000
DTEND;TZID=America/New_York:20190112T140000
DTSTAMP:20260422T224059
CREATED:20190112T184403Z
LAST-MODIFIED:20190112T184403Z
UID:8008-1547294400-1547301600@heritagehumane.org
SUMMARY:TERVIS Cups & Pups Event
DESCRIPTION:
URL:https://heritagehumane.org/event/tervis-cups-pups-event/
LOCATION:Tervis store\, 447 Prince George St\, Williamsburg\, VA 23185\, 447 Prince George St\, Williamsburg\, VA\, 23188\, United States
CATEGORIES:Adoption,Charity
ORGANIZER;CN="Heritage Humane Society":MAILTO:info@heritagehumanesociety.org
END:VEVENT
BEGIN:VEVENT
DTSTART;TZID=America/New_York:20190114T173000
DTEND;TZID=America/New_York:20190114T220000
DTSTAMP:20260422T224059
CREATED:20190112T190812Z
LAST-MODIFIED:20190112T190812Z
UID:8017-1547487000-1547503200@heritagehumane.org
SUMMARY:Williamsburg Charity Winter Golf Tournament
DESCRIPTION:Revolution Golf and Grill is hosting a Charity Winter Golf Tournament to benefit four local non-profit organizations: CASA\, Here for the Girls\, Literacy for Life\, and Heritage Humane Society. Please join us at Revolution Golf and Grille on Mondays in January starting at 5:30pm for raffles\, games\, golf\, and great food! \nNot a golfer? You can still come out and support us! Stop by Revolution Golf and Grille anytime in January and tell them you want to support the tournament and a percentage of your sales will go to the four non-profit organizations.
URL:https://heritagehumane.org/event/williamsburg-charity-winter-golf-tournament-2/
LOCATION:Revolution Golf and Grille\, 1430 High St Suite 706\, Williamsburg\, VA\, 23185\, United States
CATEGORIES:Charity
ORGANIZER;CN="Heritage Humane Society":MAILTO:info@heritagehumanesociety.org
END:VEVENT
BEGIN:VEVENT
DTSTART;TZID=America/New_York:20190115T090000
DTEND;TZID=America/New_York:20190115T093000
DTSTAMP:20260422T224059
CREATED:20181206T190620Z
LAST-MODIFIED:20181206T190620Z
UID:7909-1547542800-1547544600@heritagehumane.org
SUMMARY:Pause for Paws - WMBG Radio
DESCRIPTION:Please join us by listening to WMBG FM 97.7 & AM 740 from 9:15 am till 9:45 am for our Pet of the Week.
URL:https://heritagehumane.org/event/pause-for-paws-wmbg-radio-9/
LOCATION:WMBG Radio
CATEGORIES:Adoption
ATTACH;FMTTYPE=image/jpeg:https://heritagehumane.org/wp-content/uploads/2018/04/Bishop-scaled.jpg
ORGANIZER;CN="Heritage Humane Society":MAILTO:info@heritagehumanesociety.org
END:VEVENT
BEGIN:VEVENT
DTSTART;VALUE=DATE:20190118
DTEND;VALUE=DATE:20190119
DTSTAMP:20260422T224059
CREATED:20190122T153727Z
LAST-MODIFIED:20190122T153733Z
UID:8038-1547769600-1547855999@heritagehumane.org
SUMMARY:MarsCon 2019
DESCRIPTION:Join us at Tidewater Virginia’s Longest Running Convention – MarsCon! \nTo learn more about the convention visit their website. \nMarsCon is hosting a charity auction and bake sale to benefit Heritage Humane Society. We will also have adoptable dogs at the event. \n \n 
URL:https://heritagehumane.org/event/mars-con-2019/
LOCATION:Doubletree Williamsburg Hotel\, 50 Kingsmill Rd.\, Williamsburg\, VA\, 23185\, United States
CATEGORIES:Charity
ORGANIZER;CN="Heritage Humane Society":MAILTO:info@heritagehumanesociety.org
END:VEVENT
BEGIN:VEVENT
DTSTART;VALUE=DATE:20190119
DTEND;VALUE=DATE:20190120
DTSTAMP:20260422T224059
CREATED:20190122T153834Z
LAST-MODIFIED:20190122T153834Z
UID:8044-1547856000-1547942399@heritagehumane.org
SUMMARY:MarsCon 2019
DESCRIPTION:Join us at Tidewater Virginia’s Longest Running Convention – MarsCon! \nTo learn more about the convention visit their website. \nMarsCon is hosting a charity auction and bake sale to benefit Heritage Humane Society. We will also have adoptable dogs at the event. \n \n 
URL:https://heritagehumane.org/event/marscon-2019/
LOCATION:Doubletree Williamsburg Hotel\, 50 Kingsmill Rd.\, Williamsburg\, VA\, 23185\, United States
CATEGORIES:Charity
ORGANIZER;CN="Heritage Humane Society":MAILTO:info@heritagehumanesociety.org
END:VEVENT
BEGIN:VEVENT
DTSTART;VALUE=DATE:20190120
DTEND;VALUE=DATE:20190121
DTSTAMP:20260422T224059
CREATED:20190122T153929Z
LAST-MODIFIED:20190122T153929Z
UID:8046-1547942400-1548028799@heritagehumane.org
SUMMARY:MarsCon 2019
DESCRIPTION:Join us at Tidewater Virginia’s Longest Running Convention – MarsCon! \nTo learn more about the convention visit their website. \nMarsCon is hosting a charity auction and bake sale to benefit Heritage Humane Society. We will also have adoptable dogs at the event. \n \n 
URL:https://heritagehumane.org/event/marscon-2019-2/
LOCATION:Doubletree Williamsburg Hotel\, 50 Kingsmill Rd.\, Williamsburg\, VA\, 23185\, United States
CATEGORIES:Charity
ORGANIZER;CN="Heritage Humane Society":MAILTO:info@heritagehumanesociety.org
END:VEVENT
BEGIN:VEVENT
DTSTART;TZID=America/New_York:20190121T173000
DTEND;TZID=America/New_York:20190121T220000
DTSTAMP:20260422T224059
CREATED:20190112T191022Z
LAST-MODIFIED:20190112T191022Z
UID:8019-1548091800-1548108000@heritagehumane.org
SUMMARY:Williamsburg Charity Winter Golf Tournament
DESCRIPTION:Revolution Golf and Grill is hosting a Charity Winter Golf Tournament to benefit four local non-profit organizations: CASA\, Here for the Girls\, Literacy for Life\, and Heritage Humane Society. Please join us at Revolution Golf and Grille on Mondays in January starting at 5:30pm for raffles\, games\, golf\, and great food! \nNot a golfer? You can still come out and support us! Stop by Revolution Golf and Grille anytime in January and tell them you want to support the tournament and a percentage of your sales will go to the four non-profit organizations.
URL:https://heritagehumane.org/event/williamsburg-charity-winter-golf-tournament-3/
LOCATION:Revolution Golf and Grille\, 1430 High St Suite 706\, Williamsburg\, VA\, 23185\, United States
CATEGORIES:Charity
ORGANIZER;CN="Heritage Humane Society":MAILTO:info@heritagehumanesociety.org
END:VEVENT
BEGIN:VEVENT
DTSTART;TZID=America/New_York:20190122T090000
DTEND;TZID=America/New_York:20190122T093000
DTSTAMP:20260422T224059
CREATED:20181206T190746Z
LAST-MODIFIED:20181206T190746Z
UID:7911-1548147600-1548149400@heritagehumane.org
SUMMARY:Pause for Paws - WMBG Radio
DESCRIPTION:Please join us by listening to WMBG FM 97.7 & AM 740 from 9:15 am till 9:45 am for our Pet of the Week.
URL:https://heritagehumane.org/event/pause-for-paws-wmbg-radio-10/
LOCATION:WMBG Radio
CATEGORIES:Adoption
ATTACH;FMTTYPE=image/jpeg:https://heritagehumane.org/wp-content/uploads/2018/04/Bishop-scaled.jpg
ORGANIZER;CN="Heritage Humane Society":MAILTO:info@heritagehumanesociety.org
END:VEVENT
BEGIN:VEVENT
DTSTART;TZID=America/New_York:20190122T160000
DTEND;TZID=America/New_York:20190122T210000
DTSTAMP:20260422T224059
CREATED:20190122T153044Z
LAST-MODIFIED:20190122T153044Z
UID:8033-1548172800-1548190800@heritagehumane.org
SUMMARY:Hounds Tale Goes to the Pup
DESCRIPTION:Hound’s Tale Goes to the Pups! \nTuesday\, January 22nd from 4 P.M. – 9 P.M. at The Hound’s Tale! \nJoin us for a night of delicious food and fun at the Hound’s Tale and a portion of the sales from the regular dinner menu will go to Heritage Humane Society. Please mention when you make your reservations that you are coming to support the pets\, or tell your server when you arrive. Space is limited\, so we hope you will make your plans to attend and enjoy a scrumptious meal from the animal- lovers all to support your local shelter. Call (757) 221-6678 to make a reservation. \n \n 
URL:https://heritagehumane.org/event/hounds-tale-goes-to-the-pup/
LOCATION:Hound’s Tale\, 515 Prince George St.\, Williamsburg\, VA\, 23185\, United States
CATEGORIES:Charity
ORGANIZER;CN="Heritage Humane Society":MAILTO:info@heritagehumanesociety.org
END:VEVENT
BEGIN:VEVENT
DTSTART;TZID=America/New_York:20190128T173000
DTEND;TZID=America/New_York:20190128T220000
DTSTAMP:20260422T224059
CREATED:20190112T191259Z
LAST-MODIFIED:20190112T191259Z
UID:8021-1548696600-1548712800@heritagehumane.org
SUMMARY:Williamsburg Charity Winter Golf Tournament
DESCRIPTION:Revolution Golf and Grill is hosting a Charity Winter Golf Tournament to benefit four local non-profit organizations: CASA\, Here for the Girls\, Literacy for Life\, and Heritage Humane Society. Please join us at Revolution Golf and Grille on Mondays in January starting at 5:30pm for raffles\, games\, golf\, and great food! \nNot a golfer? You can still come out and support us! Stop by Revolution Golf and Grille anytime in January and tell them you want to support the tournament and a percentage of your sales will go to the four non-profit organizations.
URL:https://heritagehumane.org/event/williamsburg-charity-winter-golf-tournament-4/
LOCATION:Revolution Golf and Grille\, 1430 High St Suite 706\, Williamsburg\, VA\, 23185\, United States
CATEGORIES:Charity
ORGANIZER;CN="Heritage Humane Society":MAILTO:info@heritagehumanesociety.org
END:VEVENT
BEGIN:VEVENT
DTSTART;TZID=America/New_York:20190129T090000
DTEND;TZID=America/New_York:20190129T093000
DTSTAMP:20260422T224059
CREATED:20181206T190907Z
LAST-MODIFIED:20181206T190907Z
UID:7913-1548752400-1548754200@heritagehumane.org
SUMMARY:Pause for Paws - WMBG Radio
DESCRIPTION:Please join us by listening to WMBG FM 97.7 & AM 740 from 9:15 am till 9:45 am for our Pet of the Week.
URL:https://heritagehumane.org/event/pause-for-paws-wmbg-radio-11/
LOCATION:WMBG Radio
CATEGORIES:Adoption
ATTACH;FMTTYPE=image/jpeg:https://heritagehumane.org/wp-content/uploads/2018/04/Bishop-scaled.jpg
ORGANIZER;CN="Heritage Humane Society":MAILTO:info@heritagehumanesociety.org
END:VEVENT
END:VCALENDAR